BEGIN:VCALENDAR
VERSION:2.0
PRODID:-//North Avenue Presbyterian Church - ECPv6.15.20//NONSGML v1.0//EN
CALSCALE:GREGORIAN
METHOD:PUBLISH
X-ORIGINAL-URL:https://napc.org
X-WR-CALDESC:Events for North Avenue Presbyterian Church
REFRESH-INTERVAL;VALUE=DURATION:PT1H
X-Robots-Tag:noindex
X-PUBLISHED-TTL:PT1H
BEGIN:VTIMEZONE
TZID:America/New_York
BEGIN:DAYLIGHT
TZOFFSETFROM:-0500
TZOFFSETTO:-0400
TZNAME:EDT
DTSTART:20240310T070000
END:DAYLIGHT
BEGIN:STANDARD
TZOFFSETFROM:-0400
TZOFFSETTO:-0500
TZNAME:EST
DTSTART:20241103T060000
END:STANDARD
BEGIN:DAYLIGHT
TZOFFSETFROM:-0500
TZOFFSETTO:-0400
TZNAME:EDT
DTSTART:20250309T070000
END:DAYLIGHT
BEGIN:STANDARD
TZOFFSETFROM:-0400
TZOFFSETTO:-0500
TZNAME:EST
DTSTART:20251102T060000
END:STANDARD
BEGIN:DAYLIGHT
TZOFFSETFROM:-0500
TZOFFSETTO:-0400
TZNAME:EDT
DTSTART:20260308T070000
END:DAYLIGHT
BEGIN:STANDARD
TZOFFSETFROM:-0400
TZOFFSETTO:-0500
TZNAME:EST
DTSTART:20261101T060000
END:STANDARD
END:VTIMEZONE
BEGIN:VEVENT
DTSTART;TZID=America/New_York:20251110T080000
DTEND;TZID=America/New_York:20251110T120000
DTSTAMP:20260421T080510
CREATED:20250110T011032Z
LAST-MODIFIED:20250423T163446Z
UID:10007655-1762761600-1762776000@napc.org
SUMMARY:Feet on the Street Shower Ministry
DESCRIPTION:We are privileged to partner with Pastor Maurice and Feet on the Street Ministries to provide showers\, clothes\, food\, friendship\, hope\, resources\, and help on Monday mornings from 8 a.m. to noon for unhoused women and children in our community. There are opportunities to volunteer by bringing breakfast (for 25)\, helping with the shower schedule\, distributing clothes and communing with our neighbors. Use the button below to access the sign-up form. \nVolunteer Here
URL:https://napc.org/event/feet-on-the-street-shower-ministry/2025-11-10/
LOCATION:North Avenue Presbyterian Church\, 607 Peachtree St\, Atlanta\, GA\, 30308\, United States
CATEGORIES:Volunteer
ATTACH;FMTTYPE=image/jpeg:https://napc.org/wp-content/uploads/2025/01/FOTS-Ladies-Showers-scaled.jpg
END:VEVENT
BEGIN:VEVENT
DTSTART;TZID=America/New_York:20251111T190000
DTEND;TZID=America/New_York:20251111T203000
DTSTAMP:20260421T080510
CREATED:20250114T025831Z
LAST-MODIFIED:20250423T165652Z
UID:10011160-1762887600-1762893000@napc.org
SUMMARY:Small Group for all Young Adults
DESCRIPTION:Small Group for all Young Adults – Tuesdays 7pm 3rd Floor Library
URL:https://napc.org/event/small-group-for-all-young-adults/2025-11-11/
LOCATION:GA
CATEGORIES:Young Adults
ATTACH;FMTTYPE=image/webp:https://napc.org/wp-content/uploads/2025/01/Young-Adult-Small-Group-event-scaled.webp
END:VEVENT
BEGIN:VEVENT
DTSTART;TZID=America/New_York:20251112T190000
DTEND;TZID=America/New_York:20251112T203000
DTSTAMP:20260421T080510
CREATED:20250828T144849Z
LAST-MODIFIED:20250828T144849Z
UID:10011451-1762974000-1762979400@napc.org
SUMMARY:Women's Bible Study
DESCRIPTION:In the Sermon on the Mount\, Jesus declares\, “Do not think that I have come to abolish the Law or the Prophets; I have not come to abolish them but to fulfill them” (Matthew 5:17).  Last year\, we studied Jesus’ Galilean Ministry (Chapters 1-13). This year\, we will learn about Jesus’ Journey to Jerusalem (Chapters 14-28). Jesus foretold his death and resurrection\, telling his disciples in Matthew 20:18-19\, ” See\, we are going up to Jerusalem. And the Son of Man will be delivered over to the Chief Priests and Scribes\, and they will condemn him to death and deliver him over to the Gentiles to be mocked and flogged and crucified\, and he will be raised on the third day.” \nWe will once again hold two separate meeting times:\n• Wednesday Evenings 7:00 – 8:30 p.m. via Zoom\,\n• Thursday Mornings 10:00 – 11:30 a.m. in person at NAPC\, \nWhile we will be studying the same Scriptures\, each group has its own particular style and format. The Wednesday evening group includes the opportunity to discuss the Scripture\, pray together\, and fellowship with other class members. The Thursday morning group focuses on spiritual formation practices and prayer\, offering an opportunity for in-person fellowship. For more information\, please contact Elizabeth Gieseking (Wednesday) at elizabethrgieseking@gmail.com or Carolyn Christ (Thursday) at carolyngchrist@aol.com.
URL:https://napc.org/event/womens-bible-study-3/2025-11-12/
LOCATION:GA
CATEGORIES:Discipleship
ATTACH;FMTTYPE=image/jpeg:https://napc.org/wp-content/uploads/2025/08/Womens-Bible-Study-9-45-am-King-Jesus-scaled.jpg
END:VEVENT
BEGIN:VEVENT
DTSTART;TZID=America/New_York:20251113T080000
DTEND;TZID=America/New_York:20251215T170000
DTSTAMP:20260421T080510
CREATED:20251113T183648Z
LAST-MODIFIED:20251113T183648Z
UID:10011565-1763020800-1765818000@napc.org
SUMMARY:Advent Poinsettias
DESCRIPTION:Honor a loved one by dedicating an Advent poinsettia that will adorn NAPC throughout this Advent season. A list of dedications will be available at the Christmas Eve services. You may take your poinsettias with you following the Christmas Eve service you attend; unclaimed poinsettias will be delivered to NAPC homebound members. The deadline to submit your orders will be Monday\, December 15\, 2025. \nReserve Here
URL:https://napc.org/event/advent-poinsettias/
LOCATION:GA
ATTACH;FMTTYPE=image/jpeg:https://napc.org/wp-content/uploads/2025/11/Poinsettias-slide-QR-scaled.jpg
END:VEVENT
BEGIN:VEVENT
DTSTART;TZID=America/New_York:20251113T100000
DTEND;TZID=America/New_York:20251113T113000
DTSTAMP:20260421T080510
CREATED:20250828T145031Z
LAST-MODIFIED:20250828T145102Z
UID:10011525-1763028000-1763033400@napc.org
SUMMARY:Women's Bible Study
DESCRIPTION:In the Sermon on the Mount\, Jesus declares\, “Do not think that I have come to abolish the Law or the Prophets; I have not come to abolish them but to fulfill them” (Matthew 5:17).  Last year\, we studied Jesus’ Galilean Ministry (Chapters 1-13). This year\, we will learn about Jesus’ Journey to Jerusalem (Chapters 14-28). Jesus foretold his death and resurrection\, telling his disciples in Matthew 20:18-19\, ” See\, we are going up to Jerusalem. And the Son of Man will be delivered over to the Chief Priests and Scribes\, and they will condemn him to death and deliver him over to the Gentiles to be mocked and flogged and crucified\, and he will be raised on the third day.” \nWe will once again hold two separate meeting times:\n• Wednesday Evenings 7:00 – 8:30 p.m. via Zoom\,\n• Thursday Mornings 10:00 – 11:30 a.m. in person at NAPC\, \nWhile we will be studying the same Scriptures\, each group has its own particular style and format. The Wednesday evening group includes the opportunity to discuss the Scripture\, pray together\, and fellowship with other class members. The Thursday morning group focuses on spiritual formation practices and prayer\, offering an opportunity for in-person fellowship. For more information\, please contact Elizabeth Gieseking (Wednesday) at elizabethrgieseking@gmail.com or Carolyn Christ (Thursday) at carolyngchrist@aol.com.
URL:https://napc.org/event/womens-bible-study-4/2025-11-13/
LOCATION:North Avenue Presbyterian Church\, 607 Peachtree St\, Atlanta\, GA\, 30308\, United States
CATEGORIES:Discipleship
ATTACH;FMTTYPE=image/jpeg:https://napc.org/wp-content/uploads/2025/08/Womens-Bible-Study-9-45-am-King-Jesus-scaled.jpg
END:VEVENT
BEGIN:VEVENT
DTSTART;TZID=America/New_York:20251116T083000
DTEND;TZID=America/New_York:20251116T120000
DTSTAMP:20260421T080510
CREATED:20251017T135421Z
LAST-MODIFIED:20251017T135421Z
UID:10011560-1763281800-1763294400@napc.org
SUMMARY:Membership Class
DESCRIPTION:Join the North Avenue Community! Come meet with the Pastors and Elders of the church to learn more about North Avenue’s Vision and Mission and the decision of membership. Please register by November 12th. \nDates: Sunday November 16th \nTime: 8:30am to 12pm (Breakfast will be provided) \nLocation: The BMC (Broyles Ministry Center) \nEmail Roxie at roxie@napc.org with questions! \nREGISTER HERE
URL:https://napc.org/event/membership-class/
LOCATION:North Avenue Presbyterian Church\, 607 Peachtree St\, Atlanta\, GA\, 30308\, United States
ATTACH;FMTTYPE=image/jpeg:https://napc.org/wp-content/uploads/2025/10/Membership-class-Nov-16-scaled.jpg
END:VEVENT
BEGIN:VEVENT
DTSTART;TZID=America/New_York:20251116T094500
DTEND;TZID=America/New_York:20251116T110000
DTSTAMP:20260421T080510
CREATED:20240509T003518Z
LAST-MODIFIED:20250423T161931Z
UID:10006807-1763286300-1763290800@napc.org
SUMMARY:Sunday Worship
DESCRIPTION:Each week at 9:45 a.m. we worship through a variety of contemporary and traditional music\, pray together\, and hear a message from the scriptures. Our weekly times of worship are a high priority for the community at NAPC and you can join us in-person or online. www.napc.org/live \nRegister here
URL:https://napc.org/event/sunday-worship/2025-11-16/
LOCATION:North Avenue Presbyterian Church\, 607 Peachtree St\, Atlanta\, GA\, 30308\, United States
ATTACH;FMTTYPE=image/webp:https://napc.org/wp-content/uploads/2024/05/Worship-scaled.webp
END:VEVENT
BEGIN:VEVENT
DTSTART;TZID=America/New_York:20251116T104500
DTEND;TZID=America/New_York:20251116T120000
DTSTAMP:20260421T080510
CREATED:20250103T003827Z
LAST-MODIFIED:20250423T163742Z
UID:10007933-1763289900-1763294400@napc.org
SUMMARY:Youth Sunday School
DESCRIPTION:Join us in The Underground youth area for large group activities. Sunday Mornings 10:45 a.m. to 12 noon.
URL:https://napc.org/event/youth-sunday-school/2025-11-16/
LOCATION:North Avenue Presbyterian Church\, 607 Peachtree St\, Atlanta\, GA\, 30308\, United States
CATEGORIES:Youth
ATTACH;FMTTYPE=image/webp:https://napc.org/wp-content/uploads/2025/01/Sunday-School-scaled.webp
END:VEVENT
BEGIN:VEVENT
DTSTART;TZID=America/New_York:20251116T110000
DTEND;TZID=America/New_York:20251116T121500
DTSTAMP:20260421T080510
CREATED:20250108T211316Z
LAST-MODIFIED:20250423T165428Z
UID:10010609-1763290800-1763295300@napc.org
SUMMARY:The Sphere & Lil Sphere Sunday School
DESCRIPTION:During adult discipleship classes\, the infant to kindergarten young disciples in The Lil Sphere are learning. They partake in fun\, interactive bible lessons tailored to their age range. \n  \nThe Sphere is our Sunday morning program for first grade through fifth grade at the 11:15 a.m. Discipleship hour. During this time\, our first through fifth-grade students will experience a large group time of creative Bible teaching that focuses on understanding and applying God’s word in our relationship with Him and others. This is followed by activities in small groups that build relationships between the children and Jesus\, their peers\, and their leaders and applying God’s word to their lives. We intentionally focus on the faith skills of Hearing (listening to God’s word)\, Praying (having a dialogue with God)\, Talking (articulating our faith)\, and Living (worshipping God with our lives).
URL:https://napc.org/event/the-sphere-lil-sphere-sunday-school/2025-11-16/
LOCATION:North Avenue Presbyterian Church\, 607 Peachtree St\, Atlanta\, GA\, 30308\, United States
CATEGORIES:Children
ATTACH;FMTTYPE=image/webp:https://napc.org/wp-content/uploads/2025/01/Sphere-Lil-Sphere-calendar-scaled.webp
END:VEVENT
BEGIN:VEVENT
DTSTART;TZID=America/New_York:20251116T111500
DTEND;TZID=America/New_York:20251116T121500
DTSTAMP:20260421T080510
CREATED:20250114T024840Z
LAST-MODIFIED:20250423T163319Z
UID:10007380-1763291700-1763295300@napc.org
SUMMARY:Discipleship for all Young Adults
DESCRIPTION:Discipleship for all Young Adults – Sundays 11:15am Room 4103 (Overlook C)
URL:https://napc.org/event/discipleship-for-all-young-adults/2025-11-16/
LOCATION:North Avenue Presbyterian Church\, 607 Peachtree St\, Atlanta\, GA\, 30308\, United States
CATEGORIES:Young Adults
ATTACH;FMTTYPE=image/webp:https://napc.org/wp-content/uploads/2025/01/Young-Adult-Discipleship-event-scaled.webp
END:VEVENT
END:VCALENDAR