BEGIN:VCALENDAR
VERSION:2.0
PRODID:-//North Avenue Presbyterian Church - ECPv6.15.20//NONSGML v1.0//EN
CALSCALE:GREGORIAN
METHOD:PUBLISH
X-ORIGINAL-URL:https://napc.org
X-WR-CALDESC:Events for North Avenue Presbyterian Church
REFRESH-INTERVAL;VALUE=DURATION:PT1H
X-Robots-Tag:noindex
X-PUBLISHED-TTL:PT1H
BEGIN:VTIMEZONE
TZID:America/New_York
BEGIN:DAYLIGHT
TZOFFSETFROM:-0500
TZOFFSETTO:-0400
TZNAME:EDT
DTSTART:20240310T070000
END:DAYLIGHT
BEGIN:STANDARD
TZOFFSETFROM:-0400
TZOFFSETTO:-0500
TZNAME:EST
DTSTART:20241103T060000
END:STANDARD
BEGIN:DAYLIGHT
TZOFFSETFROM:-0500
TZOFFSETTO:-0400
TZNAME:EDT
DTSTART:20250309T070000
END:DAYLIGHT
BEGIN:STANDARD
TZOFFSETFROM:-0400
TZOFFSETTO:-0500
TZNAME:EST
DTSTART:20251102T060000
END:STANDARD
BEGIN:DAYLIGHT
TZOFFSETFROM:-0500
TZOFFSETTO:-0400
TZNAME:EDT
DTSTART:20260308T070000
END:DAYLIGHT
BEGIN:STANDARD
TZOFFSETFROM:-0400
TZOFFSETTO:-0500
TZNAME:EST
DTSTART:20261101T060000
END:STANDARD
END:VTIMEZONE
BEGIN:VEVENT
DTSTART;TZID=America/New_York:20250720T080000
DTEND;TZID=America/New_York:20250831T170000
DTSTAMP:20260421T093422
CREATED:20250704T014136Z
LAST-MODIFIED:20250704T014413Z
UID:10011429-1752998400-1756659600@napc.org
SUMMARY:Join the Music Ministry at NAPC!
DESCRIPTION:Join the Music Ministry at NAPC! \nWe’re entering a new season of growth in our music ministry\, and we’re looking for singers and instrumentalists to join us—whether in the choir\, praise band\, or both. \nWe welcome: \n* Singers of all voice parts—whether you’ve sung in choirs before or are just starting out \n* Instrumentalists with prior experience playing in worship or ensemble settings \n* Those excited to serve consistently and grow in community through music \nIf you’re interested—or know someone who might be—I’d love to connect. Please email me at laura@napc.org to learn more.
URL:https://napc.org/event/join-the-music-ministry-at-napc/
LOCATION:North Avenue Presbyterian Church\, 607 Peachtree St\, Atlanta\, GA\, 30308\, United States
CATEGORIES:Chancel Choir,Volunteer
ATTACH;FMTTYPE=image/jpeg:https://napc.org/wp-content/uploads/2025/07/Music-Mininistry-scaled.jpg
END:VEVENT
BEGIN:VEVENT
DTSTART;TZID=America/New_York:20250825T080000
DTEND;TZID=America/New_York:20250825T120000
DTSTAMP:20260421T093422
CREATED:20250110T011032Z
LAST-MODIFIED:20250423T163446Z
UID:10007644-1756108800-1756123200@napc.org
SUMMARY:Feet on the Street Shower Ministry
DESCRIPTION:We are privileged to partner with Pastor Maurice and Feet on the Street Ministries to provide showers\, clothes\, food\, friendship\, hope\, resources\, and help on Monday mornings from 8 a.m. to noon for unhoused women and children in our community. There are opportunities to volunteer by bringing breakfast (for 25)\, helping with the shower schedule\, distributing clothes and communing with our neighbors. Use the button below to access the sign-up form. \nVolunteer Here
URL:https://napc.org/event/feet-on-the-street-shower-ministry/2025-08-25/
LOCATION:North Avenue Presbyterian Church\, 607 Peachtree St\, Atlanta\, GA\, 30308\, United States
CATEGORIES:Volunteer
ATTACH;FMTTYPE=image/jpeg:https://napc.org/wp-content/uploads/2025/01/FOTS-Ladies-Showers-scaled.jpg
END:VEVENT
BEGIN:VEVENT
DTSTART;TZID=America/New_York:20250826T190000
DTEND;TZID=America/New_York:20250826T203000
DTSTAMP:20260421T093422
CREATED:20250114T025831Z
LAST-MODIFIED:20250423T165652Z
UID:10011149-1756234800-1756240200@napc.org
SUMMARY:Small Group for all Young Adults
DESCRIPTION:Small Group for all Young Adults – Tuesdays 7pm 3rd Floor Library
URL:https://napc.org/event/small-group-for-all-young-adults/2025-08-26/
LOCATION:GA
CATEGORIES:Young Adults
ATTACH;FMTTYPE=image/webp:https://napc.org/wp-content/uploads/2025/01/Young-Adult-Small-Group-event-scaled.webp
END:VEVENT
BEGIN:VEVENT
DTSTART;TZID=America/New_York:20250831T080000
DTEND;TZID=America/New_York:20250926T170000
DTSTAMP:20260421T093422
CREATED:20250828T114350Z
LAST-MODIFIED:20250828T114350Z
UID:10011439-1756627200-1758906000@napc.org
SUMMARY:Sock Donation Drive for Lazarus Health Day
DESCRIPTION:Sock Donation Drive for Lazarus Health Day August 31st through September 28th: Please Donate DARK COLORED socks for men\, women\, and children that we will share with our friends and neighbors at our Lazarus Health Day event on September 28th. You can bring them to the donation bins in the Hospitality Hall or The Children’s Welcome Area
URL:https://napc.org/event/sock-donation-drive-for-lazarus-health-day/
LOCATION:North Avenue Presbyterian Church\, 607 Peachtree St\, Atlanta\, GA\, 30308\, United States
CATEGORIES:Volunteer
ATTACH;FMTTYPE=image/jpeg:https://napc.org/wp-content/uploads/2025/08/Lazarus-Health-Day-Sock-Drive-2025-scaled.jpg
END:VEVENT
BEGIN:VEVENT
DTSTART;TZID=America/New_York:20250831T094500
DTEND;TZID=America/New_York:20250831T110000
DTSTAMP:20260421T093422
CREATED:20240509T003518Z
LAST-MODIFIED:20250423T161931Z
UID:10006796-1756633500-1756638000@napc.org
SUMMARY:Sunday Worship
DESCRIPTION:Each week at 9:45 a.m. we worship through a variety of contemporary and traditional music\, pray together\, and hear a message from the scriptures. Our weekly times of worship are a high priority for the community at NAPC and you can join us in-person or online. www.napc.org/live \nRegister here
URL:https://napc.org/event/sunday-worship/2025-08-31/
LOCATION:North Avenue Presbyterian Church\, 607 Peachtree St\, Atlanta\, GA\, 30308\, United States
ATTACH;FMTTYPE=image/webp:https://napc.org/wp-content/uploads/2024/05/Worship-scaled.webp
END:VEVENT
BEGIN:VEVENT
DTSTART;TZID=America/New_York:20250831T104500
DTEND;TZID=America/New_York:20250831T120000
DTSTAMP:20260421T093422
CREATED:20250103T003827Z
LAST-MODIFIED:20250423T163742Z
UID:10007922-1756637100-1756641600@napc.org
SUMMARY:Youth Sunday School
DESCRIPTION:Join us in The Underground youth area for large group activities. Sunday Mornings 10:45 a.m. to 12 noon.
URL:https://napc.org/event/youth-sunday-school/2025-08-31/
LOCATION:North Avenue Presbyterian Church\, 607 Peachtree St\, Atlanta\, GA\, 30308\, United States
CATEGORIES:Youth
ATTACH;FMTTYPE=image/webp:https://napc.org/wp-content/uploads/2025/01/Sunday-School-scaled.webp
END:VEVENT
BEGIN:VEVENT
DTSTART;TZID=America/New_York:20250831T110000
DTEND;TZID=America/New_York:20250831T121500
DTSTAMP:20260421T093422
CREATED:20250108T211316Z
LAST-MODIFIED:20250423T165428Z
UID:10010598-1756638000-1756642500@napc.org
SUMMARY:The Sphere & Lil Sphere Sunday School
DESCRIPTION:During adult discipleship classes\, the infant to kindergarten young disciples in The Lil Sphere are learning. They partake in fun\, interactive bible lessons tailored to their age range. \n  \nThe Sphere is our Sunday morning program for first grade through fifth grade at the 11:15 a.m. Discipleship hour. During this time\, our first through fifth-grade students will experience a large group time of creative Bible teaching that focuses on understanding and applying God’s word in our relationship with Him and others. This is followed by activities in small groups that build relationships between the children and Jesus\, their peers\, and their leaders and applying God’s word to their lives. We intentionally focus on the faith skills of Hearing (listening to God’s word)\, Praying (having a dialogue with God)\, Talking (articulating our faith)\, and Living (worshipping God with our lives).
URL:https://napc.org/event/the-sphere-lil-sphere-sunday-school/2025-08-31/
LOCATION:North Avenue Presbyterian Church\, 607 Peachtree St\, Atlanta\, GA\, 30308\, United States
CATEGORIES:Children
ATTACH;FMTTYPE=image/webp:https://napc.org/wp-content/uploads/2025/01/Sphere-Lil-Sphere-calendar-scaled.webp
END:VEVENT
BEGIN:VEVENT
DTSTART;TZID=America/New_York:20250831T111500
DTEND;TZID=America/New_York:20250831T121500
DTSTAMP:20260421T093422
CREATED:20250114T024840Z
LAST-MODIFIED:20250423T163319Z
UID:10007369-1756638900-1756642500@napc.org
SUMMARY:Discipleship for all Young Adults
DESCRIPTION:Discipleship for all Young Adults – Sundays 11:15am Room 4103 (Overlook C)
URL:https://napc.org/event/discipleship-for-all-young-adults/2025-08-31/
LOCATION:North Avenue Presbyterian Church\, 607 Peachtree St\, Atlanta\, GA\, 30308\, United States
CATEGORIES:Young Adults
ATTACH;FMTTYPE=image/webp:https://napc.org/wp-content/uploads/2025/01/Young-Adult-Discipleship-event-scaled.webp
END:VEVENT
END:VCALENDAR