BEGIN:VCALENDAR
VERSION:2.0
PRODID:-//North Avenue Presbyterian Church - ECPv6.15.20//NONSGML v1.0//EN
CALSCALE:GREGORIAN
METHOD:PUBLISH
X-ORIGINAL-URL:https://napc.org
X-WR-CALDESC:Events for North Avenue Presbyterian Church
REFRESH-INTERVAL;VALUE=DURATION:PT1H
X-Robots-Tag:noindex
X-PUBLISHED-TTL:PT1H
BEGIN:VTIMEZONE
TZID:America/New_York
BEGIN:DAYLIGHT
TZOFFSETFROM:-0500
TZOFFSETTO:-0400
TZNAME:EDT
DTSTART:20240310T070000
END:DAYLIGHT
BEGIN:STANDARD
TZOFFSETFROM:-0400
TZOFFSETTO:-0500
TZNAME:EST
DTSTART:20241103T060000
END:STANDARD
BEGIN:DAYLIGHT
TZOFFSETFROM:-0500
TZOFFSETTO:-0400
TZNAME:EDT
DTSTART:20250309T070000
END:DAYLIGHT
BEGIN:STANDARD
TZOFFSETFROM:-0400
TZOFFSETTO:-0500
TZNAME:EST
DTSTART:20251102T060000
END:STANDARD
BEGIN:DAYLIGHT
TZOFFSETFROM:-0500
TZOFFSETTO:-0400
TZNAME:EDT
DTSTART:20260308T070000
END:DAYLIGHT
BEGIN:STANDARD
TZOFFSETFROM:-0400
TZOFFSETTO:-0500
TZNAME:EST
DTSTART:20261101T060000
END:STANDARD
END:VTIMEZONE
BEGIN:VEVENT
DTSTART;TZID=America/New_York:20250616T080000
DTEND;TZID=America/New_York:20250616T120000
DTSTAMP:20260421T155124
CREATED:20250110T011032Z
LAST-MODIFIED:20250423T163446Z
UID:10007634-1750060800-1750075200@napc.org
SUMMARY:Feet on the Street Shower Ministry
DESCRIPTION:We are privileged to partner with Pastor Maurice and Feet on the Street Ministries to provide showers\, clothes\, food\, friendship\, hope\, resources\, and help on Monday mornings from 8 a.m. to noon for unhoused women and children in our community. There are opportunities to volunteer by bringing breakfast (for 25)\, helping with the shower schedule\, distributing clothes and communing with our neighbors. Use the button below to access the sign-up form. \nVolunteer Here
URL:https://napc.org/event/feet-on-the-street-shower-ministry/2025-06-16/
LOCATION:North Avenue Presbyterian Church\, 607 Peachtree St\, Atlanta\, GA\, 30308\, United States
CATEGORIES:Volunteer
ATTACH;FMTTYPE=image/jpeg:https://napc.org/wp-content/uploads/2025/01/FOTS-Ladies-Showers-scaled.jpg
END:VEVENT
BEGIN:VEVENT
DTSTART;TZID=America/New_York:20250617T190000
DTEND;TZID=America/New_York:20250617T203000
DTSTAMP:20260421T155124
CREATED:20250114T025831Z
LAST-MODIFIED:20250423T165652Z
UID:10011139-1750186800-1750192200@napc.org
SUMMARY:Small Group for all Young Adults
DESCRIPTION:Small Group for all Young Adults – Tuesdays 7pm 3rd Floor Library
URL:https://napc.org/event/small-group-for-all-young-adults/2025-06-17/
LOCATION:GA
CATEGORIES:Young Adults
ATTACH;FMTTYPE=image/webp:https://napc.org/wp-content/uploads/2025/01/Young-Adult-Small-Group-event-scaled.webp
END:VEVENT
BEGIN:VEVENT
DTSTART;TZID=America/New_York:20250622T080000
DTEND;TZID=America/New_York:20250627T170000
DTSTAMP:20260421T155124
CREATED:20250103T113628Z
LAST-MODIFIED:20250423T155318Z
UID:10002561-1750579200-1751043600@napc.org
SUMMARY:Fun In The Son
DESCRIPTION:Beach conference for high school kids (rising 9th grade through 12 grade). Engaging speakers and bands at two main meetings a day\, plus seminars and devotion time\, and afternoons at the beach or doing fun stuff at nearby towns.
URL:https://napc.org/event/fun-in-the-son/
LOCATION:GA
CATEGORIES:Youth
ATTACH;FMTTYPE=image/webp:https://napc.org/wp-content/uploads/2025/01/Fun-In-The-Son-scaled.webp
END:VEVENT
BEGIN:VEVENT
DTSTART;TZID=America/New_York:20250622T094500
DTEND;TZID=America/New_York:20250622T110000
DTSTAMP:20260421T155124
CREATED:20240509T003518Z
LAST-MODIFIED:20250423T161931Z
UID:10006786-1750585500-1750590000@napc.org
SUMMARY:Sunday Worship
DESCRIPTION:Each week at 9:45 a.m. we worship through a variety of contemporary and traditional music\, pray together\, and hear a message from the scriptures. Our weekly times of worship are a high priority for the community at NAPC and you can join us in-person or online. www.napc.org/live \nRegister here
URL:https://napc.org/event/sunday-worship/2025-06-22/
LOCATION:North Avenue Presbyterian Church\, 607 Peachtree St\, Atlanta\, GA\, 30308\, United States
ATTACH;FMTTYPE=image/webp:https://napc.org/wp-content/uploads/2024/05/Worship-scaled.webp
END:VEVENT
BEGIN:VEVENT
DTSTART;TZID=America/New_York:20250622T104500
DTEND;TZID=America/New_York:20250622T120000
DTSTAMP:20260421T155124
CREATED:20250103T003827Z
LAST-MODIFIED:20250423T163742Z
UID:10007912-1750589100-1750593600@napc.org
SUMMARY:Youth Sunday School
DESCRIPTION:Join us in The Underground youth area for large group activities. Sunday Mornings 10:45 a.m. to 12 noon.
URL:https://napc.org/event/youth-sunday-school/2025-06-22/
LOCATION:North Avenue Presbyterian Church\, 607 Peachtree St\, Atlanta\, GA\, 30308\, United States
CATEGORIES:Youth
ATTACH;FMTTYPE=image/webp:https://napc.org/wp-content/uploads/2025/01/Sunday-School-scaled.webp
END:VEVENT
BEGIN:VEVENT
DTSTART;TZID=America/New_York:20250622T110000
DTEND;TZID=America/New_York:20250622T121500
DTSTAMP:20260421T155124
CREATED:20250108T211316Z
LAST-MODIFIED:20250423T165428Z
UID:10010588-1750590000-1750594500@napc.org
SUMMARY:The Sphere & Lil Sphere Sunday School
DESCRIPTION:During adult discipleship classes\, the infant to kindergarten young disciples in The Lil Sphere are learning. They partake in fun\, interactive bible lessons tailored to their age range. \n  \nThe Sphere is our Sunday morning program for first grade through fifth grade at the 11:15 a.m. Discipleship hour. During this time\, our first through fifth-grade students will experience a large group time of creative Bible teaching that focuses on understanding and applying God’s word in our relationship with Him and others. This is followed by activities in small groups that build relationships between the children and Jesus\, their peers\, and their leaders and applying God’s word to their lives. We intentionally focus on the faith skills of Hearing (listening to God’s word)\, Praying (having a dialogue with God)\, Talking (articulating our faith)\, and Living (worshipping God with our lives).
URL:https://napc.org/event/the-sphere-lil-sphere-sunday-school/2025-06-22/
LOCATION:North Avenue Presbyterian Church\, 607 Peachtree St\, Atlanta\, GA\, 30308\, United States
CATEGORIES:Children
ATTACH;FMTTYPE=image/webp:https://napc.org/wp-content/uploads/2025/01/Sphere-Lil-Sphere-calendar-scaled.webp
END:VEVENT
BEGIN:VEVENT
DTSTART;TZID=America/New_York:20250622T111500
DTEND;TZID=America/New_York:20250622T121500
DTSTAMP:20260421T155124
CREATED:20250114T024840Z
LAST-MODIFIED:20250423T163319Z
UID:10007359-1750590900-1750594500@napc.org
SUMMARY:Discipleship for all Young Adults
DESCRIPTION:Discipleship for all Young Adults – Sundays 11:15am Room 4103 (Overlook C)
URL:https://napc.org/event/discipleship-for-all-young-adults/2025-06-22/
LOCATION:North Avenue Presbyterian Church\, 607 Peachtree St\, Atlanta\, GA\, 30308\, United States
CATEGORIES:Young Adults
ATTACH;FMTTYPE=image/webp:https://napc.org/wp-content/uploads/2025/01/Young-Adult-Discipleship-event-scaled.webp
END:VEVENT
BEGIN:VEVENT
DTSTART;TZID=America/New_York:20250622T140000
DTEND;TZID=America/New_York:20250622T180000
DTSTAMP:20260421T155124
CREATED:20250522T214744Z
LAST-MODIFIED:20250522T215711Z
UID:10011403-1750600800-1750615200@napc.org
SUMMARY:Streets Alive June 22nd
DESCRIPTION:Join us on June 22nd for Streets Alive: Dad Jokes\, Bad Jokes\, Riddles and Home Baked Treats! \nSign up from 2pm to 4pm or 4pm to 6pm as we share our favorite jokes and riddles\, handout treats\, and meet our Midtown neighbors and community. \nYou can also register to bake a dozen treats that we will hand out during the event. \nPlease Register by June 17th! \nContact Roxie Chess at roxie@napc.org with questions! \n  \nRegister Here to serve or to bring Baked Treats
URL:https://napc.org/event/streets-alive-june-22nd/
LOCATION:North Avenue Presbyterian Church\, 607 Peachtree St\, Atlanta\, GA\, 30308\, United States
ATTACH;FMTTYPE=image/jpeg:https://napc.org/wp-content/uploads/2025/05/streets-alive-June-2025-form-01-scaled.jpg
END:VEVENT
END:VCALENDAR