BEGIN:VCALENDAR
VERSION:2.0
PRODID:-//North Avenue Presbyterian Church - ECPv6.15.20//NONSGML v1.0//EN
CALSCALE:GREGORIAN
METHOD:PUBLISH
X-ORIGINAL-URL:https://napc.org
X-WR-CALDESC:Events for North Avenue Presbyterian Church
REFRESH-INTERVAL;VALUE=DURATION:PT1H
X-Robots-Tag:noindex
X-PUBLISHED-TTL:PT1H
BEGIN:VTIMEZONE
TZID:America/New_York
BEGIN:DAYLIGHT
TZOFFSETFROM:-0500
TZOFFSETTO:-0400
TZNAME:EDT
DTSTART:20230312T070000
END:DAYLIGHT
BEGIN:STANDARD
TZOFFSETFROM:-0400
TZOFFSETTO:-0500
TZNAME:EST
DTSTART:20231105T060000
END:STANDARD
BEGIN:DAYLIGHT
TZOFFSETFROM:-0500
TZOFFSETTO:-0400
TZNAME:EDT
DTSTART:20240310T070000
END:DAYLIGHT
BEGIN:STANDARD
TZOFFSETFROM:-0400
TZOFFSETTO:-0500
TZNAME:EST
DTSTART:20241103T060000
END:STANDARD
BEGIN:DAYLIGHT
TZOFFSETFROM:-0500
TZOFFSETTO:-0400
TZNAME:EDT
DTSTART:20250309T070000
END:DAYLIGHT
BEGIN:STANDARD
TZOFFSETFROM:-0400
TZOFFSETTO:-0500
TZNAME:EST
DTSTART:20251102T060000
END:STANDARD
END:VTIMEZONE
BEGIN:VEVENT
DTSTART;TZID=America/New_York:20241009T150000
DTEND;TZID=America/New_York:20241009T160000
DTSTAMP:20260424T134747
CREATED:20240905T222734Z
LAST-MODIFIED:20241004T224836Z
UID:10001400-1728486000-1728489600@napc.org
SUMMARY:Join the Choir for Lessons and Carols
DESCRIPTION:Join Us for Open Choir Rehearsals! \nDo you enjoy singing and want to experience being part of our Choir Family? We invite you to our open choir rehearsals\, starting on Wednesday\, September 25th from 7:00-8:00 PM. Whether you’ve been in a choir before or are simply curious\, this is a great opportunity to join us\, meet our choir family\, and prepare for the upcoming Lessons and Carols service. \nLocation: Choir Suite\, North Avenue Presbyterian Church\nDate/Time: Starting Wednesday\, September 25th\, 7:00-8:00 PM \nRSVPs are welcome but not required. Feel free to email Laura@napc.org if you plan to attend or have any questions. Otherwise\, just come as you are! Walk-ins are encouraged. \nWe hope to see you there!
URL:https://napc.org/event/join-the-choir-for-lessons-and-carols/
LOCATION:North Avenue Presbyterian Church\, 607 Peachtree St\, Atlanta\, GA\, 30308\, United States
CATEGORIES:Volunteer
ATTACH;FMTTYPE=image/webp:https://napc.org/wp-content/uploads/2024/09/Lessons-and-Carols-04-scaled.webp
END:VEVENT
BEGIN:VEVENT
DTSTART;TZID=America/New_York:20241009T190000
DTEND;TZID=America/New_York:20241009T203000
DTSTAMP:20260424T134747
CREATED:20240925T173800Z
LAST-MODIFIED:20250423T165127Z
UID:10009999-1728500400-1728505800@napc.org
SUMMARY:Women's Bible Study
DESCRIPTION:Women’s Bible Study King Jesus:\nFulfilling the Law and the Prophets\nA Two-Year Study of the Gospel of Matthew\n\nFrom its very first verse\, the Gospel of Matthew links Jesus to the Hebrew Scriptures\, declaring him to be the Messiah (Christ) and connecting him to David and Abraham. Matthew’s Gospel is permeated by the Old Testament\, containing approximately 50 direct quotations from the books of the Law\, the Prophets\, and the Psalms. In many of these cases\, Matthew states that Jesus in some way fulfilled what was spoken by a particular prophet. In the Sermon on the Mount\, Jesus himself declared\, “Do not think that I have come to abolish the Law or the Prophets; I have not come to abolish them but to fulfill them.” (Matthew 5:17\, ESV)In order to thoroughly study the Gospel of Matthew\, we are spreading it over two years. In 2024-25\, we will study Jesus’ Galilean Ministry (Chapters 1-13) and in 2025-26\, we will read about Jesus’ Journey to Jerusalem (Chapters 14-28). In the first part of the study\, we will learn about Jesus’ origins and the beginning of his ministry. We will study the Sermon on the Mount in depth\, allowing us to ponder over living in Jesus’ kingdom. We will experience Jesus’ power over disease\, nature\, and even demonic forces as we read about three sets of three miracles. We will examine Jesus’ claims and the responses to them. Then we will conclude with seven parables of the kingdom. \nWe will once again hold two separate meeting times:\n• Wednesday Evenings 7:00 – 8:30 p.m. via Zoom\, starting on September 11\n• Thursday Mornings 9:45 – 11:30 a.m. in person at NAPC\, starting on September 12
URL:https://napc.org/event/womens-bible-study/2024-10-09/
LOCATION:Zoom
ATTACH;FMTTYPE=image/webp:https://napc.org/wp-content/uploads/2024/09/Womens-Bible-Study-9-45-am-King-Jesus-03-scaled.webp
END:VEVENT
BEGIN:VEVENT
DTSTART;TZID=America/New_York:20241010T094500
DTEND;TZID=America/New_York:20241010T113000
DTSTAMP:20260424T134747
CREATED:20240925T174029Z
LAST-MODIFIED:20250423T164915Z
UID:10009413-1728553500-1728559800@napc.org
SUMMARY:Women's Bible Study
DESCRIPTION:Women’s Bible Study King Jesus:\nFulfilling the Law and the Prophets\nA Two-Year Study of the Gospel of Matthew\n\nFrom its very first verse\, the Gospel of Matthew links Jesus to the Hebrew Scriptures\, declaring him to be the Messiah (Christ) and connecting him to David and Abraham. Matthew’s Gospel is permeated by the Old Testament\, containing approximately 50 direct quotations from the books of the Law\, the Prophets\, and the Psalms. In many of these cases\, Matthew states that Jesus in some way fulfilled what was spoken by a particular prophet. In the Sermon on the Mount\, Jesus himself declared\, “Do not think that I have come to abolish the Law or the Prophets; I have not come to abolish them but to fulfill them.” (Matthew 5:17\, ESV)In order to thoroughly study the Gospel of Matthew\, we are spreading it over two years. In 2024-25\, we will study Jesus’ Galilean Ministry (Chapters 1-13) and in 2025-26\, we will read about Jesus’ Journey to Jerusalem (Chapters 14-28). In the first part of the study\, we will learn about Jesus’ origins and the beginning of his ministry. We will study the Sermon on the Mount in depth\, allowing us to ponder over living in Jesus’ kingdom. We will experience Jesus’ power over disease\, nature\, and even demonic forces as we read about three sets of three miracles. We will examine Jesus’ claims and the responses to them. Then we will conclude with seven parables of the kingdom. \nWe will once again hold two separate meeting times:\n• Wednesday Evenings 7:00 – 8:30 p.m. via Zoom\, starting on September 11\n• Thursday Mornings 9:45 – 11:30 a.m. in person at NAPC\, starting on September 12
URL:https://napc.org/event/womens-bible-study-2/2024-10-10/
LOCATION:North Avenue Presbyterian Church\, 607 Peachtree St\, Atlanta\, GA\, 30308\, United States
ATTACH;FMTTYPE=image/webp:https://napc.org/wp-content/uploads/2024/09/Womens-Bible-Study-9-45-am-King-Jesus-03-scaled.webp
END:VEVENT
BEGIN:VEVENT
DTSTART;TZID=America/New_York:20241013T083000
DTEND;TZID=America/New_York:20241013T123000
DTSTAMP:20260424T134747
CREATED:20240509T001233Z
LAST-MODIFIED:20250423T164015Z
UID:10008497-1728808200-1728822600@napc.org
SUMMARY:Prayer Labyrinth
DESCRIPTION:8:30 A.M. – 12:30 P.M.\, 4th Floor\, Gym \nThe labyrinth offers an opportunity to pray meditatively while walking the labyrinth. A host will be there to answer any questions and printed information is available. \nGroups or classes may sign up to come together and have a discussion afterward. \nClick Here to register. \nRegister here
URL:https://napc.org/event/prayer-labyrinth/2024-10-13/
LOCATION:North Avenue Presbyterian Church\, 607 Peachtree St\, Atlanta\, GA\, 30308\, United States
CATEGORIES:Prayer
ATTACH;FMTTYPE=image/webp:https://napc.org/wp-content/uploads/2024/05/LABYRINTH-2nd-sunday_Labyrinth-w.webp
ORGANIZER;CN="Clair Hertzler":MAILTO:clairehertzler@gmail.com.
END:VEVENT
BEGIN:VEVENT
DTSTART;TZID=America/New_York:20241013T094500
DTEND;TZID=America/New_York:20241013T110000
DTSTAMP:20260424T134747
CREATED:20240509T003518Z
LAST-MODIFIED:20250423T161931Z
UID:10006750-1728812700-1728817200@napc.org
SUMMARY:Sunday Worship
DESCRIPTION:Each week at 9:45 a.m. we worship through a variety of contemporary and traditional music\, pray together\, and hear a message from the scriptures. Our weekly times of worship are a high priority for the community at NAPC and you can join us in-person or online. www.napc.org/live \nRegister here
URL:https://napc.org/event/sunday-worship/2024-10-13/
LOCATION:North Avenue Presbyterian Church\, 607 Peachtree St\, Atlanta\, GA\, 30308\, United States
ATTACH;FMTTYPE=image/webp:https://napc.org/wp-content/uploads/2024/05/Worship-scaled.webp
END:VEVENT
BEGIN:VEVENT
DTSTART;TZID=America/New_York:20241013T134500
DTEND;TZID=America/New_York:20241013T144500
DTSTAMP:20260424T134747
CREATED:20240815T190122Z
LAST-MODIFIED:20250205T083748Z
UID:10001143-1728827100-1728830700@napc.org
SUMMARY:Connections 5:45 Worship Experience
DESCRIPTION:Join us on Sunday evenings at 5:45pm for a fresh and vibrant worship experience called Connections at North Avenue. Connections is designed to foster community and spiritual growth in an engaging and contemporary atmosphere. Come as you are\, bring your friends\, and discover a welcoming space where you can connect\, worship\, and be inspired. We look forward to seeing you there!
URL:https://napc.org/event/connections-545-worship-experience/2024-10-13/
LOCATION:North Avenue Presbyterian Church\, 607 Peachtree St\, Atlanta\, GA\, 30308\, United States
CATEGORIES:Worship
ATTACH;FMTTYPE=image/webp:https://napc.org/wp-content/uploads/2024/08/Connections-5-45-worship-Service-cont-03-scaled.webp
END:VEVENT
END:VCALENDAR