BEGIN:VCALENDAR
VERSION:2.0
PRODID:-//North Avenue Presbyterian Church - ECPv6.15.20//NONSGML v1.0//EN
CALSCALE:GREGORIAN
METHOD:PUBLISH
X-ORIGINAL-URL:https://napc.org
X-WR-CALDESC:Events for North Avenue Presbyterian Church
REFRESH-INTERVAL;VALUE=DURATION:PT1H
X-Robots-Tag:noindex
X-PUBLISHED-TTL:PT1H
BEGIN:VTIMEZONE
TZID:America/New_York
BEGIN:DAYLIGHT
TZOFFSETFROM:-0500
TZOFFSETTO:-0400
TZNAME:EDT
DTSTART:20230312T070000
END:DAYLIGHT
BEGIN:STANDARD
TZOFFSETFROM:-0400
TZOFFSETTO:-0500
TZNAME:EST
DTSTART:20231105T060000
END:STANDARD
BEGIN:DAYLIGHT
TZOFFSETFROM:-0500
TZOFFSETTO:-0400
TZNAME:EDT
DTSTART:20240310T070000
END:DAYLIGHT
BEGIN:STANDARD
TZOFFSETFROM:-0400
TZOFFSETTO:-0500
TZNAME:EST
DTSTART:20241103T060000
END:STANDARD
BEGIN:DAYLIGHT
TZOFFSETFROM:-0500
TZOFFSETTO:-0400
TZNAME:EDT
DTSTART:20250309T070000
END:DAYLIGHT
BEGIN:STANDARD
TZOFFSETFROM:-0400
TZOFFSETTO:-0500
TZNAME:EST
DTSTART:20251102T060000
END:STANDARD
END:VTIMEZONE
BEGIN:VEVENT
DTSTART;TZID=America/New_York:20240925T033000
DTEND;TZID=America/New_York:20240925T043000
DTSTAMP:20260424T215805
CREATED:20240809T223049Z
LAST-MODIFIED:20240809T233021Z
UID:10000338-1727235000-1727238600@napc.org
SUMMARY:Fall Wednesday Morning Men's Small Group
DESCRIPTION:Fall Wednesday Morning Men’s Small Group – Join other men from North Avenue each Wednesday morning for 6 weeks this fall to build friendships and connect with God through scripture\, discussion and prayer. We will meet at the Starbucks just across Peachtree from NAPC in the Winship Emory Midtown building\, (park at the church and walk over if you want). Wednesdays\, 7:30-8:30AM\, August 21\, 28\, September 4\, 11\, 18\, 25. \nRegister here
URL:https://napc.org/event/fall-wednesday-morning-mens-small-group/2024-09-25/
LOCATION:GA
ATTACH;FMTTYPE=image/webp:https://napc.org/wp-content/uploads/2024/08/MENS-WEDNESDAY-SMALL-GROUP-03-scaled.webp
END:VEVENT
BEGIN:VEVENT
DTSTART;TZID=America/New_York:20240925T190000
DTEND;TZID=America/New_York:20240925T203000
DTSTAMP:20260424T215805
CREATED:20240925T173800Z
LAST-MODIFIED:20250423T165127Z
UID:10009997-1727290800-1727296200@napc.org
SUMMARY:Women's Bible Study
DESCRIPTION:Women’s Bible Study King Jesus:\nFulfilling the Law and the Prophets\nA Two-Year Study of the Gospel of Matthew\n\nFrom its very first verse\, the Gospel of Matthew links Jesus to the Hebrew Scriptures\, declaring him to be the Messiah (Christ) and connecting him to David and Abraham. Matthew’s Gospel is permeated by the Old Testament\, containing approximately 50 direct quotations from the books of the Law\, the Prophets\, and the Psalms. In many of these cases\, Matthew states that Jesus in some way fulfilled what was spoken by a particular prophet. In the Sermon on the Mount\, Jesus himself declared\, “Do not think that I have come to abolish the Law or the Prophets; I have not come to abolish them but to fulfill them.” (Matthew 5:17\, ESV)In order to thoroughly study the Gospel of Matthew\, we are spreading it over two years. In 2024-25\, we will study Jesus’ Galilean Ministry (Chapters 1-13) and in 2025-26\, we will read about Jesus’ Journey to Jerusalem (Chapters 14-28). In the first part of the study\, we will learn about Jesus’ origins and the beginning of his ministry. We will study the Sermon on the Mount in depth\, allowing us to ponder over living in Jesus’ kingdom. We will experience Jesus’ power over disease\, nature\, and even demonic forces as we read about three sets of three miracles. We will examine Jesus’ claims and the responses to them. Then we will conclude with seven parables of the kingdom. \nWe will once again hold two separate meeting times:\n• Wednesday Evenings 7:00 – 8:30 p.m. via Zoom\, starting on September 11\n• Thursday Mornings 9:45 – 11:30 a.m. in person at NAPC\, starting on September 12
URL:https://napc.org/event/womens-bible-study/2024-09-25/
LOCATION:Zoom
ATTACH;FMTTYPE=image/webp:https://napc.org/wp-content/uploads/2024/09/Womens-Bible-Study-9-45-am-King-Jesus-03-scaled.webp
END:VEVENT
BEGIN:VEVENT
DTSTART;TZID=America/New_York:20240926T094500
DTEND;TZID=America/New_York:20240926T113000
DTSTAMP:20260424T215805
CREATED:20240925T174029Z
LAST-MODIFIED:20250423T164915Z
UID:10009411-1727343900-1727350200@napc.org
SUMMARY:Women's Bible Study
DESCRIPTION:Women’s Bible Study King Jesus:\nFulfilling the Law and the Prophets\nA Two-Year Study of the Gospel of Matthew\n\nFrom its very first verse\, the Gospel of Matthew links Jesus to the Hebrew Scriptures\, declaring him to be the Messiah (Christ) and connecting him to David and Abraham. Matthew’s Gospel is permeated by the Old Testament\, containing approximately 50 direct quotations from the books of the Law\, the Prophets\, and the Psalms. In many of these cases\, Matthew states that Jesus in some way fulfilled what was spoken by a particular prophet. In the Sermon on the Mount\, Jesus himself declared\, “Do not think that I have come to abolish the Law or the Prophets; I have not come to abolish them but to fulfill them.” (Matthew 5:17\, ESV)In order to thoroughly study the Gospel of Matthew\, we are spreading it over two years. In 2024-25\, we will study Jesus’ Galilean Ministry (Chapters 1-13) and in 2025-26\, we will read about Jesus’ Journey to Jerusalem (Chapters 14-28). In the first part of the study\, we will learn about Jesus’ origins and the beginning of his ministry. We will study the Sermon on the Mount in depth\, allowing us to ponder over living in Jesus’ kingdom. We will experience Jesus’ power over disease\, nature\, and even demonic forces as we read about three sets of three miracles. We will examine Jesus’ claims and the responses to them. Then we will conclude with seven parables of the kingdom. \nWe will once again hold two separate meeting times:\n• Wednesday Evenings 7:00 – 8:30 p.m. via Zoom\, starting on September 11\n• Thursday Mornings 9:45 – 11:30 a.m. in person at NAPC\, starting on September 12
URL:https://napc.org/event/womens-bible-study-2/2024-09-26/
LOCATION:North Avenue Presbyterian Church\, 607 Peachtree St\, Atlanta\, GA\, 30308\, United States
ATTACH;FMTTYPE=image/webp:https://napc.org/wp-content/uploads/2024/09/Womens-Bible-Study-9-45-am-King-Jesus-03-scaled.webp
END:VEVENT
BEGIN:VEVENT
DTSTART;TZID=America/New_York:20240929T070000
DTEND;TZID=America/New_York:20240929T080000
DTSTAMP:20260424T215805
CREATED:20240809T225321Z
LAST-MODIFIED:20240809T232800Z
UID:10000345-1727593200-1727596800@napc.org
SUMMARY:Moments That Matter
DESCRIPTION:We hope that you will join us for three weeks beginning Sunday\, September 8 for the next installment of Moments That Matter\, entitled “I Believe…Help My Unbelief–Walking Through Doubt Towards Trust.” Director of Congregational Care Kim Goldsmith and Bill Dixon hope to facilitate honest\, meaningful conversations that are rooted in Scripture\, our personal experiences\, and the experiences of others that help us to engage honestly with doubts and difficulties. We will gather in BMC A at 11:00.
URL:https://napc.org/event/moments-that-matter/2024-09-29/
LOCATION:North Avenue Presbyterian Church\, 607 Peachtree St\, Atlanta\, GA\, 30308\, United States
ATTACH;FMTTYPE=image/webp:https://napc.org/wp-content/uploads/2024/08/moments-that-matter-wip-series-4-06-scaled.webp
END:VEVENT
BEGIN:VEVENT
DTSTART;TZID=America/New_York:20240929T080000
DTEND;TZID=America/New_York:20240929T090000
DTSTAMP:20260424T215805
CREATED:20240911T003102Z
LAST-MODIFIED:20240911T003102Z
UID:10001401-1727596800-1727600400@napc.org
SUMMARY:Calling All Knitters
DESCRIPTION:The prayer shawl knitters of North Ave invite you to join us on Sunday\, September 29 at Noon in room 3209 to work on some prayer shawls together! Snacks will be provided. If you don’t know how to knit\, and want to learn\, we would love to teach you! All ages welcome.
URL:https://napc.org/event/calling-all-knitters/
LOCATION:North Avenue Presbyterian Church\, 607 Peachtree St\, Atlanta\, GA\, 30308\, United States
CATEGORIES:Volunteer
ATTACH;FMTTYPE=image/webp:https://napc.org/wp-content/uploads/2024/09/calling-all-knitters_Cak-w-scaled.webp
END:VEVENT
BEGIN:VEVENT
DTSTART;TZID=America/New_York:20240929T094500
DTEND;TZID=America/New_York:20240929T110000
DTSTAMP:20260424T215805
CREATED:20240509T003518Z
LAST-MODIFIED:20250423T161931Z
UID:10006748-1727603100-1727607600@napc.org
SUMMARY:Sunday Worship
DESCRIPTION:Each week at 9:45 a.m. we worship through a variety of contemporary and traditional music\, pray together\, and hear a message from the scriptures. Our weekly times of worship are a high priority for the community at NAPC and you can join us in-person or online. www.napc.org/live \nRegister here
URL:https://napc.org/event/sunday-worship/2024-09-29/
LOCATION:North Avenue Presbyterian Church\, 607 Peachtree St\, Atlanta\, GA\, 30308\, United States
ATTACH;FMTTYPE=image/webp:https://napc.org/wp-content/uploads/2024/05/Worship-scaled.webp
END:VEVENT
BEGIN:VEVENT
DTSTART;TZID=America/New_York:20240929T134500
DTEND;TZID=America/New_York:20240929T144500
DTSTAMP:20260424T215805
CREATED:20240815T190122Z
LAST-MODIFIED:20250205T083748Z
UID:10001141-1727617500-1727621100@napc.org
SUMMARY:Connections 5:45 Worship Experience
DESCRIPTION:Join us on Sunday evenings at 5:45pm for a fresh and vibrant worship experience called Connections at North Avenue. Connections is designed to foster community and spiritual growth in an engaging and contemporary atmosphere. Come as you are\, bring your friends\, and discover a welcoming space where you can connect\, worship\, and be inspired. We look forward to seeing you there!
URL:https://napc.org/event/connections-545-worship-experience/2024-09-29/
LOCATION:North Avenue Presbyterian Church\, 607 Peachtree St\, Atlanta\, GA\, 30308\, United States
CATEGORIES:Worship
ATTACH;FMTTYPE=image/webp:https://napc.org/wp-content/uploads/2024/08/Connections-5-45-worship-Service-cont-03-scaled.webp
END:VEVENT
BEGIN:VEVENT
DTSTART;TZID=America/New_York:20240929T134500
DTEND;TZID=America/New_York:20240929T160000
DTSTAMP:20260424T215805
CREATED:20240904T203720Z
LAST-MODIFIED:20240904T203849Z
UID:10001397-1727617500-1727625600@napc.org
SUMMARY:Friends Of Refugees - An Evening Of Prayer and Worship
DESCRIPTION:As we enter the last half of 2024\, Friends of Refugees is calling their partners around the city to come together for a special evening of prayer and worship on Sunday evening\, September 29th\, co-hosted by North Avenue Presbyterian Church. \nJoin us for an intimate evening of prayer with faith partners from around Atlanta as we seek to declare our heart’s affections and love for the Lord and our neighbors\, with a particular focus on refugees around the world. Beverages and light snacks will be served. Appropriate event for high school and above. \nPLEASE RSVP by Sept 24th so we can have an accurate headcount for snacks and materials. \nRegister Here
URL:https://napc.org/event/friends-of-refugees-an-evening-of-prayer-and-worship/
LOCATION:North Avenue Presbyterian Church\, 607 Peachtree St\, Atlanta\, GA\, 30308\, United States
ATTACH;FMTTYPE=image/webp:https://napc.org/wp-content/uploads/2024/09/Friends-Of-Refugees-Prayer-03-scaled.webp
END:VEVENT
END:VCALENDAR