BEGIN:VCALENDAR
VERSION:2.0
PRODID:-//North Avenue Presbyterian Church - ECPv6.15.20//NONSGML v1.0//EN
CALSCALE:GREGORIAN
METHOD:PUBLISH
X-ORIGINAL-URL:https://napc.org
X-WR-CALDESC:Events for North Avenue Presbyterian Church
REFRESH-INTERVAL;VALUE=DURATION:PT1H
X-Robots-Tag:noindex
X-PUBLISHED-TTL:PT1H
BEGIN:VTIMEZONE
TZID:America/New_York
BEGIN:DAYLIGHT
TZOFFSETFROM:-0500
TZOFFSETTO:-0400
TZNAME:EDT
DTSTART:20230312T070000
END:DAYLIGHT
BEGIN:STANDARD
TZOFFSETFROM:-0400
TZOFFSETTO:-0500
TZNAME:EST
DTSTART:20231105T060000
END:STANDARD
BEGIN:DAYLIGHT
TZOFFSETFROM:-0500
TZOFFSETTO:-0400
TZNAME:EDT
DTSTART:20240310T070000
END:DAYLIGHT
BEGIN:STANDARD
TZOFFSETFROM:-0400
TZOFFSETTO:-0500
TZNAME:EST
DTSTART:20241103T060000
END:STANDARD
BEGIN:DAYLIGHT
TZOFFSETFROM:-0500
TZOFFSETTO:-0400
TZNAME:EDT
DTSTART:20250309T070000
END:DAYLIGHT
BEGIN:STANDARD
TZOFFSETFROM:-0400
TZOFFSETTO:-0500
TZNAME:EST
DTSTART:20251102T060000
END:STANDARD
END:VTIMEZONE
BEGIN:VEVENT
DTSTART;TZID=America/New_York:20240818T040000
DTEND;TZID=America/New_York:20240915T130000
DTSTAMP:20260424T170007
CREATED:20240814T224236Z
LAST-MODIFIED:20240814T230620Z
UID:10001136-1723953600-1726405200@napc.org
SUMMARY:Lazarus Sock Drive
DESCRIPTION:Sock Donation Drive for Lazarus Health Day August 18th through September 15th: Please Donate DARK COLORED socks for men\, women\, and children that we will share with our friends and neighbors at the Lazarus Health Day event on September 15th. You can bring them to the donation bins in the Hospitality Hall or The Children’s Welcome Area
URL:https://napc.org/event/lazarus-sock-drive/
LOCATION:North Avenue Presbyterian Church\, 607 Peachtree St\, Atlanta\, GA\, 30308\, United States
CATEGORIES:Volunteer
ATTACH;FMTTYPE=image/webp:https://napc.org/wp-content/uploads/2024/08/Lazarus-Health-Day-Sock-Drive-2024-03-scaled.webp
END:VEVENT
BEGIN:VEVENT
DTSTART;TZID=America/New_York:20240820T093000
DTEND;TZID=America/New_York:20240820T123000
DTSTAMP:20260424T170007
CREATED:20240809T222034Z
LAST-MODIFIED:20240809T233041Z
UID:10000332-1724146200-1724157000@napc.org
SUMMARY:The Avenue: Visit the Federal Reserve Museum
DESCRIPTION:The Federal Reserve sits in a prominent location at 1000 Peachtree Street NE. As you drive by\, ever wonder what goes on inside that prestigious building? The Federal Reserve museum is designed to give the public a glimpse of its operations with interactive multimedia exhibits that describe the Federal Reserve’s role in the economy. We will also see the cash-processing operations\, where millions of dollars are counted\, sorted\, or shredded daily. You’ll get a glimpse into the Bank’s automated vault and see the robotic transports that do the heavy lifting. \nFollowing our visit to the museum\, we will drop by Cafe Intermezzo\, on the corner of Peachtree and 11th Street\, where participants may purchase coffee\, tea or a delicious dessert. Please register early; we will be limited to 20 participants for this field trip. \nRegister here
URL:https://napc.org/event/the-avenue-visit-the-federal-reserve-museum/
LOCATION:GA
ATTACH;FMTTYPE=image/webp:https://napc.org/wp-content/uploads/2024/08/summer-fun-the-avenue-UPDATED-TIME-04-scaled.webp
END:VEVENT
BEGIN:VEVENT
DTSTART;TZID=America/New_York:20240821T033000
DTEND;TZID=America/New_York:20240821T043000
DTSTAMP:20260424T170007
CREATED:20240809T223049Z
LAST-MODIFIED:20240809T233021Z
UID:10000333-1724211000-1724214600@napc.org
SUMMARY:Fall Wednesday Morning Men's Small Group
DESCRIPTION:Fall Wednesday Morning Men’s Small Group – Join other men from North Avenue each Wednesday morning for 6 weeks this fall to build friendships and connect with God through scripture\, discussion and prayer. We will meet at the Starbucks just across Peachtree from NAPC in the Winship Emory Midtown building\, (park at the church and walk over if you want). Wednesdays\, 7:30-8:30AM\, August 21\, 28\, September 4\, 11\, 18\, 25. \nRegister here
URL:https://napc.org/event/fall-wednesday-morning-mens-small-group/2024-08-21/
LOCATION:GA
ATTACH;FMTTYPE=image/webp:https://napc.org/wp-content/uploads/2024/08/MENS-WEDNESDAY-SMALL-GROUP-03-scaled.webp
END:VEVENT
BEGIN:VEVENT
DTSTART;TZID=America/New_York:20240825T094500
DTEND;TZID=America/New_York:20240825T110000
DTSTAMP:20260424T170007
CREATED:20240509T003518Z
LAST-MODIFIED:20250423T161931Z
UID:10006743-1724579100-1724583600@napc.org
SUMMARY:Sunday Worship
DESCRIPTION:Each week at 9:45 a.m. we worship through a variety of contemporary and traditional music\, pray together\, and hear a message from the scriptures. Our weekly times of worship are a high priority for the community at NAPC and you can join us in-person or online. www.napc.org/live \nRegister here
URL:https://napc.org/event/sunday-worship/2024-08-25/
LOCATION:North Avenue Presbyterian Church\, 607 Peachtree St\, Atlanta\, GA\, 30308\, United States
ATTACH;FMTTYPE=image/webp:https://napc.org/wp-content/uploads/2024/05/Worship-scaled.webp
END:VEVENT
END:VCALENDAR