BEGIN:VCALENDAR
VERSION:2.0
PRODID:-//North Avenue Presbyterian Church - ECPv6.15.20//NONSGML v1.0//EN
CALSCALE:GREGORIAN
METHOD:PUBLISH
X-ORIGINAL-URL:https://napc.org
X-WR-CALDESC:Events for North Avenue Presbyterian Church
REFRESH-INTERVAL;VALUE=DURATION:PT1H
X-Robots-Tag:noindex
X-PUBLISHED-TTL:PT1H
BEGIN:VTIMEZONE
TZID:America/New_York
BEGIN:DAYLIGHT
TZOFFSETFROM:-0500
TZOFFSETTO:-0400
TZNAME:EDT
DTSTART:20230312T070000
END:DAYLIGHT
BEGIN:STANDARD
TZOFFSETFROM:-0400
TZOFFSETTO:-0500
TZNAME:EST
DTSTART:20231105T060000
END:STANDARD
BEGIN:DAYLIGHT
TZOFFSETFROM:-0500
TZOFFSETTO:-0400
TZNAME:EDT
DTSTART:20240310T070000
END:DAYLIGHT
BEGIN:STANDARD
TZOFFSETFROM:-0400
TZOFFSETTO:-0500
TZNAME:EST
DTSTART:20241103T060000
END:STANDARD
BEGIN:DAYLIGHT
TZOFFSETFROM:-0500
TZOFFSETTO:-0400
TZNAME:EDT
DTSTART:20250309T070000
END:DAYLIGHT
BEGIN:STANDARD
TZOFFSETFROM:-0400
TZOFFSETTO:-0500
TZNAME:EST
DTSTART:20251102T060000
END:STANDARD
END:VTIMEZONE
BEGIN:VEVENT
DTSTART;TZID=America/New_York:20240519T094500
DTEND;TZID=America/New_York:20240519T110000
DTSTAMP:20260425T092325
CREATED:20240509T003518Z
LAST-MODIFIED:20250423T161931Z
UID:10006729-1716111900-1716116400@napc.org
SUMMARY:Sunday Worship
DESCRIPTION:Each week at 9:45 a.m. we worship through a variety of contemporary and traditional music\, pray together\, and hear a message from the scriptures. Our weekly times of worship are a high priority for the community at NAPC and you can join us in-person or online. www.napc.org/live \nRegister here
URL:https://napc.org/event/sunday-worship/2024-05-19/
LOCATION:North Avenue Presbyterian Church\, 607 Peachtree St\, Atlanta\, GA\, 30308\, United States
ATTACH;FMTTYPE=image/webp:https://napc.org/wp-content/uploads/2024/05/Worship-scaled.webp
END:VEVENT
END:VCALENDAR