BEGIN:VCALENDAR
VERSION:2.0
PRODID:-//North Avenue Presbyterian Church - ECPv6.15.20//NONSGML v1.0//EN
CALSCALE:GREGORIAN
METHOD:PUBLISH
X-ORIGINAL-URL:https://napc.org
X-WR-CALDESC:Events for North Avenue Presbyterian Church
REFRESH-INTERVAL;VALUE=DURATION:PT1H
X-Robots-Tag:noindex
X-PUBLISHED-TTL:PT1H
BEGIN:VTIMEZONE
TZID:America/New_York
BEGIN:DAYLIGHT
TZOFFSETFROM:-0500
TZOFFSETTO:-0400
TZNAME:EDT
DTSTART:20240310T070000
END:DAYLIGHT
BEGIN:STANDARD
TZOFFSETFROM:-0400
TZOFFSETTO:-0500
TZNAME:EST
DTSTART:20241103T060000
END:STANDARD
BEGIN:DAYLIGHT
TZOFFSETFROM:-0500
TZOFFSETTO:-0400
TZNAME:EDT
DTSTART:20250309T070000
END:DAYLIGHT
BEGIN:STANDARD
TZOFFSETFROM:-0400
TZOFFSETTO:-0500
TZNAME:EST
DTSTART:20251102T060000
END:STANDARD
BEGIN:DAYLIGHT
TZOFFSETFROM:-0500
TZOFFSETTO:-0400
TZNAME:EDT
DTSTART:20260308T070000
END:DAYLIGHT
BEGIN:STANDARD
TZOFFSETFROM:-0400
TZOFFSETTO:-0500
TZNAME:EST
DTSTART:20261101T060000
END:STANDARD
END:VTIMEZONE
BEGIN:VEVENT
DTSTART;TZID=America/New_York:20250420T054500
DTEND;TZID=America/New_York:20250420T070000
DTSTAMP:20260421T125626
CREATED:20250321T215728Z
LAST-MODIFIED:20250411T234924Z
UID:10004275-1745127900-1745132400@napc.org
SUMMARY:Easter Sunday
DESCRIPTION:April 20\, 2025: Easter Sunday\n\n9:45 a.m. Easter Service with Brass Quintet. Celebrate Easter with the Chancel Choir & Brass Quintet— a powerful and joyful service of resurrection and hope!
URL:https://napc.org/event/easter-sunday/
LOCATION:North Avenue Presbyterian Church\, 607 Peachtree St\, Atlanta\, GA\, 30308\, United States
CATEGORIES:Easter
ATTACH;FMTTYPE=image/jpeg:https://napc.org/wp-content/uploads/2025/04/Easter-Sunday-worship-scaled.jpg
END:VEVENT
BEGIN:VEVENT
DTSTART;TZID=America/New_York:20250420T040000
DTEND;TZID=America/New_York:20250420T051500
DTSTAMP:20260421T125626
CREATED:20250411T235045Z
LAST-MODIFIED:20250411T235122Z
UID:10004283-1745121600-1745126100@napc.org
SUMMARY:Waffle House Breakfast
DESCRIPTION:April 20\, 2025: Easter Sunday\n\n8 a.m. to 9:15 a.m.: Free Waffle House Breakfast in the NAPC Gym
URL:https://napc.org/event/waffle-house-breakfast/
LOCATION:North Avenue Presbyterian Church\, 607 Peachtree St\, Atlanta\, GA\, 30308\, United States
CATEGORIES:Easter
ATTACH;FMTTYPE=image/jpeg:https://napc.org/wp-content/uploads/2025/04/Easter-Sunday-waffles-scaled.jpg
END:VEVENT
BEGIN:VEVENT
DTSTART;TZID=America/New_York:20250420T030000
DTEND;TZID=America/New_York:20250420T040000
DTSTAMP:20260421T125626
CREATED:20250411T234714Z
LAST-MODIFIED:20250411T234809Z
UID:10004284-1745118000-1745121600@napc.org
SUMMARY:Sunrise Jaz Service
DESCRIPTION:April 20\, 2025: Easter Sunday\n\n7 a.m.: Sunrise Jazz Service in the upper parking deck
URL:https://napc.org/event/easter-sunday-2/
LOCATION:North Avenue Presbyterian Church\, 607 Peachtree St\, Atlanta\, GA\, 30308\, United States
CATEGORIES:Easter
ATTACH;FMTTYPE=image/jpeg:https://napc.org/wp-content/uploads/2025/04/Easter-Sunday-Jazzjpg-scaled.jpg
END:VEVENT
BEGIN:VEVENT
DTSTART;TZID=America/New_York:20250419T073000
DTEND;TZID=America/New_York:20250419T090000
DTSTAMP:20260421T125626
CREATED:20250313T213221Z
LAST-MODIFIED:20250411T235230Z
UID:10004270-1745047800-1745053200@napc.org
SUMMARY:Easter Egg Hunt
DESCRIPTION:The Handell’s host an annual Easter Egg Hunt! All families are welcome to enjoy crafts\, games\, and searching for hundreds of eggs. The egg hunt is located at 790 Wildwood Rd NE.
URL:https://napc.org/event/easter-egg-hunt/
LOCATION:790 Wildwood Rd NE\, Atlanta\, GA 30324\, 790 Wildwood Rd NE\, Atlanta\, GA\, 30324\, United States
CATEGORIES:Children,Easter
ATTACH;FMTTYPE=image/jpeg:https://napc.org/wp-content/uploads/2025/03/2025-easter-egg-hunt-scaled.jpg
END:VEVENT
BEGIN:VEVENT
DTSTART;TZID=America/New_York:20250417T150000
DTEND;TZID=America/New_York:20250417T160000
DTSTAMP:20260421T125626
CREATED:20250321T215458Z
LAST-MODIFIED:20250411T235152Z
UID:10004274-1744902000-1744905600@napc.org
SUMMARY:Maundy Thursday
DESCRIPTION:7 p.m.: Maundy Thursday Tenebrae Service of Shadows and Communion.
URL:https://napc.org/event/maundy-thursday/
LOCATION:North Avenue Presbyterian Church\, 607 Peachtree St\, Atlanta\, GA\, 30308\, United States
CATEGORIES:Easter
ATTACH;FMTTYPE=image/jpeg:https://napc.org/wp-content/uploads/2025/03/Holy-Week-04-scaled.jpg
END:VEVENT
BEGIN:VEVENT
DTSTART;TZID=America/New_York:20250413T051500
DTEND;TZID=America/New_York:20250413T090000
DTSTAMP:20260421T125626
CREATED:20250313T204644Z
LAST-MODIFIED:20250411T235351Z
UID:10004269-1744521300-1744534800@napc.org
SUMMARY:Palm Sunday Petting Zoo
DESCRIPTION:Join us as we celebrate Spring! The season of New life! \nWe invite you to come to visit our Petting Zoo on April 13th from 9:15 a.m. – 1 p.m. in the underground Parking Deck at North Avenue Presbyterian Church. Sheep\, lambs\, and more! 
URL:https://napc.org/event/palm-sunday-petting-zoo/
LOCATION:North Avenue Presbyterian Church\, 607 Peachtree St\, Atlanta\, GA\, 30308\, United States
CATEGORIES:Children,Easter
ATTACH;FMTTYPE=image/jpeg:https://napc.org/wp-content/uploads/2025/03/Palm-Sunday-Petting-Zoo-2025-scaled.jpg
END:VEVENT
END:VCALENDAR