BEGIN:VCALENDAR
VERSION:2.0
PRODID:-//North Avenue Presbyterian Church - ECPv6.15.20//NONSGML v1.0//EN
CALSCALE:GREGORIAN
METHOD:PUBLISH
X-ORIGINAL-URL:https://napc.org
X-WR-CALDESC:Events for North Avenue Presbyterian Church
REFRESH-INTERVAL;VALUE=DURATION:PT1H
X-Robots-Tag:noindex
X-PUBLISHED-TTL:PT1H
BEGIN:VTIMEZONE
TZID:America/New_York
BEGIN:DAYLIGHT
TZOFFSETFROM:-0500
TZOFFSETTO:-0400
TZNAME:EDT
DTSTART:20240310T070000
END:DAYLIGHT
BEGIN:STANDARD
TZOFFSETFROM:-0400
TZOFFSETTO:-0500
TZNAME:EST
DTSTART:20241103T060000
END:STANDARD
BEGIN:DAYLIGHT
TZOFFSETFROM:-0500
TZOFFSETTO:-0400
TZNAME:EDT
DTSTART:20250309T070000
END:DAYLIGHT
BEGIN:STANDARD
TZOFFSETFROM:-0400
TZOFFSETTO:-0500
TZNAME:EST
DTSTART:20251102T060000
END:STANDARD
BEGIN:DAYLIGHT
TZOFFSETFROM:-0500
TZOFFSETTO:-0400
TZNAME:EDT
DTSTART:20260308T070000
END:DAYLIGHT
BEGIN:STANDARD
TZOFFSETFROM:-0400
TZOFFSETTO:-0500
TZNAME:EST
DTSTART:20261101T060000
END:STANDARD
END:VTIMEZONE
BEGIN:VEVENT
DTSTART;TZID=America/New_York:20250308T033000
DTEND;TZID=America/New_York:20250308T080000
DTSTAMP:20260425T203409
CREATED:20241230T200526Z
LAST-MODIFIED:20250107T023517Z
UID:10002272-1741404600-1741420800@napc.org
SUMMARY:"Come Away With Me" Lenten Retreat
DESCRIPTION:Lenten Retreat\, Saturday\, March 8\, 2025.  8:30 am – 1:00 pm\, NAPC\nRegistration Fee of $15.00 required. \nRegister Here \nFeeling attracted and distracted?  Saying “Yes” instead of “No”?\nHaving trouble letting go of your grip? Wishing you could just flop down? \n“If you don’t come apart for a while\,\nyou will come apart after a while.\nDallas Willard \n“Don’t  you ever get to put it down?” Someone asks.\n“No\,” I reply\, “it is with me always\, More present on most days than God himself.”\nThe Knapsack by Ruth Haley Barton \nA team of experienced leaders will guide us on this intentional journey into quiet spaces where we connect with God and with our own souls. ( Based on materials from Ruth Haley Barton)
URL:https://napc.org/event/come-away-with-me-lenten-retreat/
LOCATION:North Avenue Presbyterian Church\, 607 Peachtree St\, Atlanta\, GA\, 30308\, United States
CATEGORIES:Discipleship
ATTACH;FMTTYPE=image/webp:https://napc.org/wp-content/uploads/2024/12/Lenten-Retreat-2025-scaled.webp
END:VEVENT
BEGIN:VEVENT
DTSTART;TZID=America/New_York:20250125T033000
DTEND;TZID=America/New_York:20250125T050000
DTSTAMP:20260425T203409
CREATED:20241224T221625Z
LAST-MODIFIED:20250107T023602Z
UID:10002270-1737775800-1737781200@napc.org
SUMMARY:NAPC Winter Men's Breakfast!!
DESCRIPTION:NAPC Winter Men’s Breakfast!! Please join us on Saturday\, January 25\, 2025\, 8:30-10:00 AM in the Overlook at North Avenue for a morning of delicious food\, great conversation\, spiritual encouragement\, and a chance to get to know other men at North Avenue better. $10 registration includes breakfast. \nRegister Here
URL:https://napc.org/event/napc-winter-mens-breakfast/
LOCATION:North Avenue Presbyterian Church\, 607 Peachtree St\, Atlanta\, GA\, 30308\, United States
CATEGORIES:Discipleship
ATTACH;FMTTYPE=image/webp:https://napc.org/wp-content/uploads/2024/12/WINTER-Mens-Breakfast-2025-scaled.webp
END:VEVENT
END:VCALENDAR