BEGIN:VCALENDAR
VERSION:2.0
PRODID:-//North Avenue Presbyterian Church - ECPv6.15.20//NONSGML v1.0//EN
CALSCALE:GREGORIAN
METHOD:PUBLISH
X-ORIGINAL-URL:https://napc.org
X-WR-CALDESC:Events for North Avenue Presbyterian Church
REFRESH-INTERVAL;VALUE=DURATION:PT1H
X-Robots-Tag:noindex
X-PUBLISHED-TTL:PT1H
BEGIN:VTIMEZONE
TZID:America/New_York
BEGIN:DAYLIGHT
TZOFFSETFROM:-0500
TZOFFSETTO:-0400
TZNAME:EDT
DTSTART:20240310T070000
END:DAYLIGHT
BEGIN:STANDARD
TZOFFSETFROM:-0400
TZOFFSETTO:-0500
TZNAME:EST
DTSTART:20241103T060000
END:STANDARD
BEGIN:DAYLIGHT
TZOFFSETFROM:-0500
TZOFFSETTO:-0400
TZNAME:EDT
DTSTART:20250309T070000
END:DAYLIGHT
BEGIN:STANDARD
TZOFFSETFROM:-0400
TZOFFSETTO:-0500
TZNAME:EST
DTSTART:20251102T060000
END:STANDARD
BEGIN:DAYLIGHT
TZOFFSETFROM:-0500
TZOFFSETTO:-0400
TZNAME:EDT
DTSTART:20260308T070000
END:DAYLIGHT
BEGIN:STANDARD
TZOFFSETFROM:-0400
TZOFFSETTO:-0500
TZNAME:EST
DTSTART:20261101T060000
END:STANDARD
END:VTIMEZONE
BEGIN:VEVENT
DTSTART;TZID=America/New_York:20250223T110000
DTEND;TZID=America/New_York:20250223T130000
DTSTAMP:20260422T101544
CREATED:20250124T214928Z
LAST-MODIFIED:20250124T215019Z
UID:10003873-1740308400-1740315600@napc.org
SUMMARY:RAY OF HOPE GOSPEL CHOIR
DESCRIPTION:Celebrate Black History Month with the North Avenue Presbyterian Church Concert Series! \nJoin us on Sunday afternoons in February for an unforgettable journey through the rich and inspiring legacy of Black music. From the soulful melodies of Jazz to the powerful harmonies of Gospel and spirituals\, this series showcases the incredible artistry and heritage of Black music. \nSUNDAY\, FEBRUARY 23rd at 4 p.m. \nRAY OF HOPE GOSPEL CHOIR \nAdmission is free\, and all are welcome. Be inspired by the music that moves the soul and tells a story of resilience\, joy\, and faith.
URL:https://napc.org/event/ray-of-hope-gospel-choir/
LOCATION:North Avenue Presbyterian Church\, 607 Peachtree St\, Atlanta\, GA\, 30308\, United States
CATEGORIES:BLACK HISTORY MONTH
ATTACH;FMTTYPE=image/webp:https://napc.org/wp-content/uploads/2025/01/black-History-concert-series-feb23-scaled.webp
END:VEVENT
BEGIN:VEVENT
DTSTART;TZID=America/New_York:20250218T063000
DTEND;TZID=America/New_York:20250218T100000
DTSTAMP:20260422T101544
CREATED:20250124T210324Z
LAST-MODIFIED:20250124T215221Z
UID:10003870-1739860200-1739872800@napc.org
SUMMARY:The Avenue - Celebrating Black History: An Historic Visit
DESCRIPTION:On Tuesday\, Feb 18\, The Avenue will visit the First Congregational Church. The roots of the church emerged in 1867 from an initiative of the American Missionary Association to educate former slaves after the Civil War. The initial church building was erected in 1877 on Courtland Street and the current sanctuary was built in 1908. For more than 150 years\, the church has been an important center of community life\, hope and faith\, nurturing many community leaders. Rev. Andrew Young currently serves as the Pastor of Global Missions. The senior pastor\, Dr. Dwight Andrews\, is a prominent musician and Professor of Music Theory and African American Music at Emory University. Their music ministry has partnered with NAPC over the years to produce a joyous Easter Sunrise Service for Midtown. Join us for a tour of this historic and important church\, learn about the history and see the recent renovations. \nWe will meet at the church at 11:30 am for those who want to eat lunch together before the tour. Order a box lunch or bring your own! Transportation will depart from the downstairs parking lot at 1:00 pm to arrive for the one-hour tour\, which begins at 1:30. We expect to return to the church parking lot by 3:00 pm. \nRegister Here \n 
URL:https://napc.org/event/the-avenue-celebrating-black-history-a-historic-visit/
LOCATION:GA
CATEGORIES:BLACK HISTORY MONTH,The Avenue
ATTACH;FMTTYPE=image/webp:https://napc.org/wp-content/uploads/2025/01/Balck-History-Month-The-Avenue02-scaled.webp
END:VEVENT
BEGIN:VEVENT
DTSTART;TZID=America/New_York:20250216T110000
DTEND;TZID=America/New_York:20250216T130000
DTSTAMP:20260422T101544
CREATED:20250124T214619Z
LAST-MODIFIED:20250124T215056Z
UID:10003872-1739703600-1739710800@napc.org
SUMMARY:Renowned Vocalist T\, RENEE CRUTCHER
DESCRIPTION:Celebrate Black History Month with the North Avenue Presbyterian Church Concert Series! \nJoin us on Sunday afternoons in February for an unforgettable journey through the rich and inspiring legacy of Black music. From the soulful melodies of Jazz to the powerful harmonies of Gospel and spirituals\, this series showcases the incredible artistry and heritage of Black music. \nSUNDAY\, FEBRUARY 16th at 4 p.m.\nRenowned Vocalist T\, RENEE CRUTCHER\nT. Renée Crutcher has spent more than 40 years as an accomplished performing artist recording and appearing around the globe in Broadway tour productions\, concerts\, television\, film and commercials; critically reviewed in the New York Times. She has worked with such luminaries as; Harry Belafonte\, Michael Jackson\, Stevie Wonder\, Leonard Bernstein\, Robert Shaw\, Hugh Masekela\, Leta Mbulu\,Soul II Soul\, Barry White\, Joe Cocker\, Roy Ayers\, Lou Rawls\, and others. \nAdmission is free\, and all are welcome. Be inspired by the music that moves the soul and tells a story of resilience\, joy\, and faith.
URL:https://napc.org/event/renowned-vocalist-t-renee-crutcher/
LOCATION:North Avenue Presbyterian Church\, 607 Peachtree St\, Atlanta\, GA\, 30308\, United States
CATEGORIES:BLACK HISTORY MONTH
ATTACH;FMTTYPE=image/webp:https://napc.org/wp-content/uploads/2025/01/black-History-concert-series-feb16-scaled.webp
END:VEVENT
BEGIN:VEVENT
DTSTART;TZID=America/New_York:20250204T060000
DTEND;TZID=America/New_York:20250204T080000
DTSTAMP:20260422T101544
CREATED:20250124T204441Z
LAST-MODIFIED:20250124T215258Z
UID:10003869-1738648800-1738656000@napc.org
SUMMARY:The Avenue - Celebrating Black History: Songs Of Faith
DESCRIPTION:On Tuesday\, February 4\, The Avenue will learn about and listen to the music of hope and faith that has grown from the Black church. Members of The Atlanta African American Music Society (TAAMS) will share their musical talents and knowledge of how Spirituals and Gospel music grew from the black experience and have contributed to the development of blues\, jazz and other music that has become part of American life and culture. Vernay Dabney\, who has been an integral member of the NAPC chancel choir for more than 20 years\, will moderate the panel of esteemed artists and music educators\, who will not only share their knowledge but also perform examples of this inspirational music. \nRegister Here
URL:https://napc.org/event/the-avenue-songs-of-faith/
LOCATION:North Avenue Presbyterian Church\, 607 Peachtree St\, Atlanta\, GA\, 30308\, United States
CATEGORIES:BLACK HISTORY MONTH,The Avenue
ATTACH;FMTTYPE=image/webp:https://napc.org/wp-content/uploads/2025/01/Balck-History-Month-The-Avenue-01-scaled.webp
END:VEVENT
BEGIN:VEVENT
DTSTART;TZID=America/New_York:20250202T120000
DTEND;TZID=America/New_York:20250202T140000
DTSTAMP:20260422T101544
CREATED:20250124T212447Z
LAST-MODIFIED:20250124T215326Z
UID:10003871-1738497600-1738504800@napc.org
SUMMARY:Jazz Saxophonist TAJ DAVIS
DESCRIPTION:Celebrate Black History Month with the North Avenue Presbyterian Church Concert Series! \nJoin us on Sunday afternoons in February for an unforgettable journey through the rich and inspiring legacy of Black music. From the soulful melodies of Jazz to the powerful harmonies of Gospel and spirituals\, this series showcases the incredible artistry and heritage of Black music. \nSUNDAY\, FEBRUARY 2nd at 5 p.m.\nJazz Saxophonist TAJ DAVIS\nSaxophonist\, arranger\, and composer\, Taj Davis is making a name for himself on the music scene. A native of Long Island\, New York\, Taj was inspired and encouraged to study music by his high school teachers\, and friends. Taj received his Bachelors of Science in Music Education from Oakwood University. While studying there\, Taj has played with the UAH Jazz Ensemble\, Oakwood University Church\, The Aeolians\, and Madison Mission SDA church. Taj Davis right away pursued his education at Florida State University graduating summer 2012 with a Masters in Music Performance concentrating in Jazz Studies. Taj Davis is currently based in Atlanta\, Georgia\, performing with the Perfect 10 Band. \nAdmission is free\, and all are welcome. Be inspired by the music that moves the soul and tells a story of resilience\, joy\, and faith.
URL:https://napc.org/event/jazz-saxophonist-taj-davis/
LOCATION:North Avenue Presbyterian Church\, 607 Peachtree St\, Atlanta\, GA\, 30308\, United States
CATEGORIES:BLACK HISTORY MONTH
ATTACH;FMTTYPE=image/webp:https://napc.org/wp-content/uploads/2025/01/black-History-concert-series-feb-2-scaled.webp
END:VEVENT
END:VCALENDAR