BEGIN:VCALENDAR
VERSION:2.0
PRODID:-//North Avenue Presbyterian Church - ECPv6.15.20//NONSGML v1.0//EN
CALSCALE:GREGORIAN
METHOD:PUBLISH
X-ORIGINAL-URL:https://napc.org
X-WR-CALDESC:Events for North Avenue Presbyterian Church
REFRESH-INTERVAL;VALUE=DURATION:PT1H
X-Robots-Tag:noindex
X-PUBLISHED-TTL:PT1H
BEGIN:VTIMEZONE
TZID:America/New_York
BEGIN:DAYLIGHT
TZOFFSETFROM:-0500
TZOFFSETTO:-0400
TZNAME:EDT
DTSTART:20240310T070000
END:DAYLIGHT
BEGIN:STANDARD
TZOFFSETFROM:-0400
TZOFFSETTO:-0500
TZNAME:EST
DTSTART:20241103T060000
END:STANDARD
BEGIN:DAYLIGHT
TZOFFSETFROM:-0500
TZOFFSETTO:-0400
TZNAME:EDT
DTSTART:20250309T070000
END:DAYLIGHT
BEGIN:STANDARD
TZOFFSETFROM:-0400
TZOFFSETTO:-0500
TZNAME:EST
DTSTART:20251102T060000
END:STANDARD
BEGIN:DAYLIGHT
TZOFFSETFROM:-0500
TZOFFSETTO:-0400
TZNAME:EDT
DTSTART:20260308T070000
END:DAYLIGHT
BEGIN:STANDARD
TZOFFSETFROM:-0400
TZOFFSETTO:-0500
TZNAME:EST
DTSTART:20261101T060000
END:STANDARD
END:VTIMEZONE
BEGIN:VEVENT
DTSTART;TZID=America/New_York:20251109T083000
DTEND;TZID=America/New_York:20251109T123000
DTSTAMP:20260421T041828
CREATED:20240509T001233Z
LAST-MODIFIED:20250423T164015Z
UID:10008510-1762677000-1762691400@napc.org
SUMMARY:Prayer Labyrinth
DESCRIPTION:8:30 A.M. – 12:30 P.M.\, 4th Floor\, Gym \nThe labyrinth offers an opportunity to pray meditatively while walking the labyrinth. A host will be there to answer any questions and printed information is available. \nGroups or classes may sign up to come together and have a discussion afterward. \nClick Here to register. \nRegister here
URL:https://napc.org/event/prayer-labyrinth/2025-11-09/
LOCATION:North Avenue Presbyterian Church\, 607 Peachtree St\, Atlanta\, GA\, 30308\, United States
CATEGORIES:Prayer
ATTACH;FMTTYPE=image/webp:https://napc.org/wp-content/uploads/2024/05/LABYRINTH-2nd-sunday_Labyrinth-w.webp
ORGANIZER;CN="Clair Hertzler":MAILTO:clairehertzler@gmail.com.
END:VEVENT
BEGIN:VEVENT
DTSTART;TZID=America/New_York:20251109T094500
DTEND;TZID=America/New_York:20251109T110000
DTSTAMP:20260421T041828
CREATED:20240509T003518Z
LAST-MODIFIED:20250423T161931Z
UID:10006806-1762681500-1762686000@napc.org
SUMMARY:Sunday Worship
DESCRIPTION:Each week at 9:45 a.m. we worship through a variety of contemporary and traditional music\, pray together\, and hear a message from the scriptures. Our weekly times of worship are a high priority for the community at NAPC and you can join us in-person or online. www.napc.org/live \nRegister here
URL:https://napc.org/event/sunday-worship/2025-11-09/
LOCATION:North Avenue Presbyterian Church\, 607 Peachtree St\, Atlanta\, GA\, 30308\, United States
ATTACH;FMTTYPE=image/webp:https://napc.org/wp-content/uploads/2024/05/Worship-scaled.webp
END:VEVENT
BEGIN:VEVENT
DTSTART;TZID=America/New_York:20251109T094500
DTEND;TZID=America/New_York:20251109T140000
DTSTAMP:20260421T041828
CREATED:20251017T125733Z
LAST-MODIFIED:20251017T130256Z
UID:10011557-1762681500-1762696800@napc.org
SUMMARY:Together On Mission with Jamil of IFEShttps://napc.org/wp-admin/post-new.php?post_type=tribe_events
DESCRIPTION:Join us in Worship on Sunday\, November 9th as we hear from our Mission Partner\, Jamil\, with IFES (International Fellowship of Evangelical Students) about God’s movement in the lives of students in the MENA region of the world. \nJamil will be a part of a question-and-answer discussion in the Designed for Discipleship class during the 11am discipleship hour. \nPlease register to join us for lunch in the BMC starting at 12:15 to learn more about the ministry to students and how you can pray\, engage\, and support God’s movement in their lives. \nDate: November 9\, 2025 \nTime: 12:15-2pm \nPlace: BMC \nCost: $10 donation to help cover the cost of lunch \n  \nREGISTER HERE
URL:https://napc.org/event/together-on-mission-with-jamil-of-ifes/
LOCATION:North Avenue Presbyterian Church\, 607 Peachtree St\, Atlanta\, GA\, 30308\, United States
CATEGORIES:Discipleship
END:VEVENT
BEGIN:VEVENT
DTSTART;TZID=America/New_York:20251109T104500
DTEND;TZID=America/New_York:20251109T120000
DTSTAMP:20260421T041828
CREATED:20250103T003827Z
LAST-MODIFIED:20250423T163742Z
UID:10007932-1762685100-1762689600@napc.org
SUMMARY:Youth Sunday School
DESCRIPTION:Join us in The Underground youth area for large group activities. Sunday Mornings 10:45 a.m. to 12 noon.
URL:https://napc.org/event/youth-sunday-school/2025-11-09/
LOCATION:North Avenue Presbyterian Church\, 607 Peachtree St\, Atlanta\, GA\, 30308\, United States
CATEGORIES:Youth
ATTACH;FMTTYPE=image/webp:https://napc.org/wp-content/uploads/2025/01/Sunday-School-scaled.webp
END:VEVENT
BEGIN:VEVENT
DTSTART;TZID=America/New_York:20251109T110000
DTEND;TZID=America/New_York:20251109T121500
DTSTAMP:20260421T041828
CREATED:20250108T211316Z
LAST-MODIFIED:20250423T165428Z
UID:10010608-1762686000-1762690500@napc.org
SUMMARY:The Sphere & Lil Sphere Sunday School
DESCRIPTION:During adult discipleship classes\, the infant to kindergarten young disciples in The Lil Sphere are learning. They partake in fun\, interactive bible lessons tailored to their age range. \n  \nThe Sphere is our Sunday morning program for first grade through fifth grade at the 11:15 a.m. Discipleship hour. During this time\, our first through fifth-grade students will experience a large group time of creative Bible teaching that focuses on understanding and applying God’s word in our relationship with Him and others. This is followed by activities in small groups that build relationships between the children and Jesus\, their peers\, and their leaders and applying God’s word to their lives. We intentionally focus on the faith skills of Hearing (listening to God’s word)\, Praying (having a dialogue with God)\, Talking (articulating our faith)\, and Living (worshipping God with our lives).
URL:https://napc.org/event/the-sphere-lil-sphere-sunday-school/2025-11-09/
LOCATION:North Avenue Presbyterian Church\, 607 Peachtree St\, Atlanta\, GA\, 30308\, United States
CATEGORIES:Children
ATTACH;FMTTYPE=image/webp:https://napc.org/wp-content/uploads/2025/01/Sphere-Lil-Sphere-calendar-scaled.webp
END:VEVENT
BEGIN:VEVENT
DTSTART;TZID=America/New_York:20251109T111500
DTEND;TZID=America/New_York:20251109T121500
DTSTAMP:20260421T041828
CREATED:20250114T024840Z
LAST-MODIFIED:20250423T163319Z
UID:10007379-1762686900-1762690500@napc.org
SUMMARY:Discipleship for all Young Adults
DESCRIPTION:Discipleship for all Young Adults – Sundays 11:15am Room 4103 (Overlook C)
URL:https://napc.org/event/discipleship-for-all-young-adults/2025-11-09/
LOCATION:North Avenue Presbyterian Church\, 607 Peachtree St\, Atlanta\, GA\, 30308\, United States
CATEGORIES:Young Adults
ATTACH;FMTTYPE=image/webp:https://napc.org/wp-content/uploads/2025/01/Young-Adult-Discipleship-event-scaled.webp
END:VEVENT
END:VCALENDAR