BEGIN:VCALENDAR
VERSION:2.0
PRODID:-//North Avenue Presbyterian Church - ECPv6.15.20//NONSGML v1.0//EN
CALSCALE:GREGORIAN
METHOD:PUBLISH
X-ORIGINAL-URL:https://napc.org
X-WR-CALDESC:Events for North Avenue Presbyterian Church
REFRESH-INTERVAL;VALUE=DURATION:PT1H
X-Robots-Tag:noindex
X-PUBLISHED-TTL:PT1H
BEGIN:VTIMEZONE
TZID:America/New_York
BEGIN:DAYLIGHT
TZOFFSETFROM:-0500
TZOFFSETTO:-0400
TZNAME:EDT
DTSTART:20240310T070000
END:DAYLIGHT
BEGIN:STANDARD
TZOFFSETFROM:-0400
TZOFFSETTO:-0500
TZNAME:EST
DTSTART:20241103T060000
END:STANDARD
BEGIN:DAYLIGHT
TZOFFSETFROM:-0500
TZOFFSETTO:-0400
TZNAME:EDT
DTSTART:20250309T070000
END:DAYLIGHT
BEGIN:STANDARD
TZOFFSETFROM:-0400
TZOFFSETTO:-0500
TZNAME:EST
DTSTART:20251102T060000
END:STANDARD
BEGIN:DAYLIGHT
TZOFFSETFROM:-0500
TZOFFSETTO:-0400
TZNAME:EDT
DTSTART:20260308T070000
END:DAYLIGHT
BEGIN:STANDARD
TZOFFSETFROM:-0400
TZOFFSETTO:-0500
TZNAME:EST
DTSTART:20261101T060000
END:STANDARD
END:VTIMEZONE
BEGIN:VEVENT
DTSTART;TZID=America/New_York:20250831T080000
DTEND;TZID=America/New_York:20250926T170000
DTSTAMP:20260421T081155
CREATED:20250828T114350Z
LAST-MODIFIED:20250828T114350Z
UID:10011439-1756627200-1758906000@napc.org
SUMMARY:Sock Donation Drive for Lazarus Health Day
DESCRIPTION:Sock Donation Drive for Lazarus Health Day August 31st through September 28th: Please Donate DARK COLORED socks for men\, women\, and children that we will share with our friends and neighbors at our Lazarus Health Day event on September 28th. You can bring them to the donation bins in the Hospitality Hall or The Children’s Welcome Area
URL:https://napc.org/event/sock-donation-drive-for-lazarus-health-day/
LOCATION:North Avenue Presbyterian Church\, 607 Peachtree St\, Atlanta\, GA\, 30308\, United States
CATEGORIES:Volunteer
ATTACH;FMTTYPE=image/jpeg:https://napc.org/wp-content/uploads/2025/08/Lazarus-Health-Day-Sock-Drive-2025-scaled.jpg
END:VEVENT
BEGIN:VEVENT
DTSTART;TZID=America/New_York:20250921T094500
DTEND;TZID=America/New_York:20250921T110000
DTSTAMP:20260421T081155
CREATED:20240509T003518Z
LAST-MODIFIED:20250423T161931Z
UID:10006799-1758447900-1758452400@napc.org
SUMMARY:Sunday Worship
DESCRIPTION:Each week at 9:45 a.m. we worship through a variety of contemporary and traditional music\, pray together\, and hear a message from the scriptures. Our weekly times of worship are a high priority for the community at NAPC and you can join us in-person or online. www.napc.org/live \nRegister here
URL:https://napc.org/event/sunday-worship/2025-09-21/
LOCATION:North Avenue Presbyterian Church\, 607 Peachtree St\, Atlanta\, GA\, 30308\, United States
ATTACH;FMTTYPE=image/webp:https://napc.org/wp-content/uploads/2024/05/Worship-scaled.webp
END:VEVENT
BEGIN:VEVENT
DTSTART;TZID=America/New_York:20250921T104500
DTEND;TZID=America/New_York:20250921T120000
DTSTAMP:20260421T081155
CREATED:20250103T003827Z
LAST-MODIFIED:20250423T163742Z
UID:10007925-1758451500-1758456000@napc.org
SUMMARY:Youth Sunday School
DESCRIPTION:Join us in The Underground youth area for large group activities. Sunday Mornings 10:45 a.m. to 12 noon.
URL:https://napc.org/event/youth-sunday-school/2025-09-21/
LOCATION:North Avenue Presbyterian Church\, 607 Peachtree St\, Atlanta\, GA\, 30308\, United States
CATEGORIES:Youth
ATTACH;FMTTYPE=image/webp:https://napc.org/wp-content/uploads/2025/01/Sunday-School-scaled.webp
END:VEVENT
BEGIN:VEVENT
DTSTART;TZID=America/New_York:20250921T110000
DTEND;TZID=America/New_York:20250921T121500
DTSTAMP:20260421T081155
CREATED:20250108T211316Z
LAST-MODIFIED:20250423T165428Z
UID:10010601-1758452400-1758456900@napc.org
SUMMARY:The Sphere & Lil Sphere Sunday School
DESCRIPTION:During adult discipleship classes\, the infant to kindergarten young disciples in The Lil Sphere are learning. They partake in fun\, interactive bible lessons tailored to their age range. \n  \nThe Sphere is our Sunday morning program for first grade through fifth grade at the 11:15 a.m. Discipleship hour. During this time\, our first through fifth-grade students will experience a large group time of creative Bible teaching that focuses on understanding and applying God’s word in our relationship with Him and others. This is followed by activities in small groups that build relationships between the children and Jesus\, their peers\, and their leaders and applying God’s word to their lives. We intentionally focus on the faith skills of Hearing (listening to God’s word)\, Praying (having a dialogue with God)\, Talking (articulating our faith)\, and Living (worshipping God with our lives).
URL:https://napc.org/event/the-sphere-lil-sphere-sunday-school/2025-09-21/
LOCATION:North Avenue Presbyterian Church\, 607 Peachtree St\, Atlanta\, GA\, 30308\, United States
CATEGORIES:Children
ATTACH;FMTTYPE=image/webp:https://napc.org/wp-content/uploads/2025/01/Sphere-Lil-Sphere-calendar-scaled.webp
END:VEVENT
BEGIN:VEVENT
DTSTART;TZID=America/New_York:20250921T111500
DTEND;TZID=America/New_York:20250921T121500
DTSTAMP:20260421T081155
CREATED:20250114T024840Z
LAST-MODIFIED:20250423T163319Z
UID:10007372-1758453300-1758456900@napc.org
SUMMARY:Discipleship for all Young Adults
DESCRIPTION:Discipleship for all Young Adults – Sundays 11:15am Room 4103 (Overlook C)
URL:https://napc.org/event/discipleship-for-all-young-adults/2025-09-21/
LOCATION:North Avenue Presbyterian Church\, 607 Peachtree St\, Atlanta\, GA\, 30308\, United States
CATEGORIES:Young Adults
ATTACH;FMTTYPE=image/webp:https://napc.org/wp-content/uploads/2025/01/Young-Adult-Discipleship-event-scaled.webp
END:VEVENT
BEGIN:VEVENT
DTSTART;TZID=America/New_York:20250921T143000
DTEND;TZID=America/New_York:20250921T163000
DTSTAMP:20260421T081155
CREATED:20250828T115418Z
LAST-MODIFIED:20250828T115444Z
UID:10011440-1758465000-1758472200@napc.org
SUMMARY:Friends of Refugees Prayer
DESCRIPTION:“For everything\, there is a season\, and a time for every matter under heaven.” \nJoin North Avenue Presbyterian Church\, Friends of Refugees\, and Memorial Drive Ministries as we gather together for a time of prayer\, reflection\, and conversations focused on our refugee and immigrant neighbors and friends. \nDate: September 21\, 2025 \nTime: 2:30pm-4:30pm \nPlace: The Overlook at North Avenue Presbyterian Church \n**There will be an opportunity to gather for dinner at a restaurant in midtown after the time of prayer to continue the conversation. \nRegistration: Please register by September 18th using the link below \nREGISTER HERE
URL:https://napc.org/event/5166/
LOCATION:North Avenue Presbyterian Church\, 607 Peachtree St\, Atlanta\, GA\, 30308\, United States
ATTACH;FMTTYPE=image/jpeg:https://napc.org/wp-content/uploads/2025/08/Friends-Of-Refugees-Prayer-2025-scaled.jpg
END:VEVENT
END:VCALENDAR