BEGIN:VCALENDAR
VERSION:2.0
PRODID:-//North Avenue Presbyterian Church - ECPv6.15.20//NONSGML v1.0//EN
CALSCALE:GREGORIAN
METHOD:PUBLISH
X-ORIGINAL-URL:https://napc.org
X-WR-CALDESC:Events for North Avenue Presbyterian Church
REFRESH-INTERVAL;VALUE=DURATION:PT1H
X-Robots-Tag:noindex
X-PUBLISHED-TTL:PT1H
BEGIN:VTIMEZONE
TZID:America/New_York
BEGIN:DAYLIGHT
TZOFFSETFROM:-0500
TZOFFSETTO:-0400
TZNAME:EDT
DTSTART:20240310T070000
END:DAYLIGHT
BEGIN:STANDARD
TZOFFSETFROM:-0400
TZOFFSETTO:-0500
TZNAME:EST
DTSTART:20241103T060000
END:STANDARD
BEGIN:DAYLIGHT
TZOFFSETFROM:-0500
TZOFFSETTO:-0400
TZNAME:EDT
DTSTART:20250309T070000
END:DAYLIGHT
BEGIN:STANDARD
TZOFFSETFROM:-0400
TZOFFSETTO:-0500
TZNAME:EST
DTSTART:20251102T060000
END:STANDARD
BEGIN:DAYLIGHT
TZOFFSETFROM:-0500
TZOFFSETTO:-0400
TZNAME:EDT
DTSTART:20260308T070000
END:DAYLIGHT
BEGIN:STANDARD
TZOFFSETFROM:-0400
TZOFFSETTO:-0500
TZNAME:EST
DTSTART:20261101T060000
END:STANDARD
END:VTIMEZONE
BEGIN:VEVENT
DTSTART;TZID=America/New_York:20250831T080000
DTEND;TZID=America/New_York:20250926T170000
DTSTAMP:20260421T065111
CREATED:20250828T114350Z
LAST-MODIFIED:20250828T114350Z
UID:10011439-1756627200-1758906000@napc.org
SUMMARY:Sock Donation Drive for Lazarus Health Day
DESCRIPTION:Sock Donation Drive for Lazarus Health Day August 31st through September 28th: Please Donate DARK COLORED socks for men\, women\, and children that we will share with our friends and neighbors at our Lazarus Health Day event on September 28th. You can bring them to the donation bins in the Hospitality Hall or The Children’s Welcome Area
URL:https://napc.org/event/sock-donation-drive-for-lazarus-health-day/
LOCATION:North Avenue Presbyterian Church\, 607 Peachtree St\, Atlanta\, GA\, 30308\, United States
CATEGORIES:Volunteer
ATTACH;FMTTYPE=image/jpeg:https://napc.org/wp-content/uploads/2025/08/Lazarus-Health-Day-Sock-Drive-2025-scaled.jpg
END:VEVENT
BEGIN:VEVENT
DTSTART;TZID=America/New_York:20250909T110000
DTEND;TZID=America/New_York:20250909T130000
DTSTAMP:20260421T065111
CREATED:20250813T175214Z
LAST-MODIFIED:20250813T175214Z
UID:10011434-1757415600-1757422800@napc.org
SUMMARY:The Avenue - September 9
DESCRIPTION:ANN WILSON CRAMER has been a force for good in Atlanta for decades and is still going strong! She has served on and led numerous civic partnerships\, foundations\, and boards\, and currently chairs Atlanta Way 2.0 – a movement to strengthen the civic fabric of Atlanta by making connections and building bridges between the many groups that\, even as they sometimes disagree\, all contribute to our community. On September 9\, we will be privileged to hear about Atlanta 2.0 and Ann’s passion for Atlanta’s greater good! \nAnn Cramer is retired from the IBM Corporation as Director of Corporate Citizenship and Corporate Affairs for the Americas. She has been a Senior Consultant with Coxe Curry & Associates. Ann and her husband Jeff are long-time residents of Inman Park and are active members of St. Luke’s Episcopal Church. They have two adult children. \nTuesday\, September 9 – 11:00 am-1:00 pm \nNorth Avenue Presbyterian Church\, The Overlook \nCost: Free to attend – $10 for catered lunch or if you prefer you can bring your own lunch. \nAnn’s talk and Q and A begin at 11:15 ~ followed by a catered lunch at 12:15pm. \n  \nRegister Here
URL:https://napc.org/event/the-avenue-september-9/
LOCATION:North Avenue Presbyterian Church\, 607 Peachtree St\, Atlanta\, GA\, 30308\, United States
CATEGORIES:The Avenue
ATTACH;FMTTYPE=image/jpeg:https://napc.org/wp-content/uploads/2025/08/Atlanta-way-2.0-scaled.jpg
END:VEVENT
BEGIN:VEVENT
DTSTART;TZID=America/New_York:20250909T190000
DTEND;TZID=America/New_York:20250909T203000
DTSTAMP:20260421T065111
CREATED:20250114T025831Z
LAST-MODIFIED:20250423T165652Z
UID:10011151-1757444400-1757449800@napc.org
SUMMARY:Small Group for all Young Adults
DESCRIPTION:Small Group for all Young Adults – Tuesdays 7pm 3rd Floor Library
URL:https://napc.org/event/small-group-for-all-young-adults/2025-09-09/
LOCATION:GA
CATEGORIES:Young Adults
ATTACH;FMTTYPE=image/webp:https://napc.org/wp-content/uploads/2025/01/Young-Adult-Small-Group-event-scaled.webp
END:VEVENT
END:VCALENDAR