BEGIN:VCALENDAR
VERSION:2.0
PRODID:-//North Avenue Presbyterian Church - ECPv6.15.20//NONSGML v1.0//EN
CALSCALE:GREGORIAN
METHOD:PUBLISH
X-ORIGINAL-URL:https://napc.org
X-WR-CALDESC:Events for North Avenue Presbyterian Church
REFRESH-INTERVAL;VALUE=DURATION:PT1H
X-Robots-Tag:noindex
X-PUBLISHED-TTL:PT1H
BEGIN:VTIMEZONE
TZID:America/New_York
BEGIN:DAYLIGHT
TZOFFSETFROM:-0500
TZOFFSETTO:-0400
TZNAME:EDT
DTSTART:20240310T070000
END:DAYLIGHT
BEGIN:STANDARD
TZOFFSETFROM:-0400
TZOFFSETTO:-0500
TZNAME:EST
DTSTART:20241103T060000
END:STANDARD
BEGIN:DAYLIGHT
TZOFFSETFROM:-0500
TZOFFSETTO:-0400
TZNAME:EDT
DTSTART:20250309T070000
END:DAYLIGHT
BEGIN:STANDARD
TZOFFSETFROM:-0400
TZOFFSETTO:-0500
TZNAME:EST
DTSTART:20251102T060000
END:STANDARD
BEGIN:DAYLIGHT
TZOFFSETFROM:-0500
TZOFFSETTO:-0400
TZNAME:EDT
DTSTART:20260308T070000
END:DAYLIGHT
BEGIN:STANDARD
TZOFFSETFROM:-0400
TZOFFSETTO:-0500
TZNAME:EST
DTSTART:20261101T060000
END:STANDARD
END:VTIMEZONE
BEGIN:VEVENT
DTSTART;TZID=America/New_York:20250720T080000
DTEND;TZID=America/New_York:20250831T170000
DTSTAMP:20260421T081155
CREATED:20250704T014136Z
LAST-MODIFIED:20250704T014413Z
UID:10011429-1752998400-1756659600@napc.org
SUMMARY:Join the Music Ministry at NAPC!
DESCRIPTION:Join the Music Ministry at NAPC! \nWe’re entering a new season of growth in our music ministry\, and we’re looking for singers and instrumentalists to join us—whether in the choir\, praise band\, or both. \nWe welcome: \n* Singers of all voice parts—whether you’ve sung in choirs before or are just starting out \n* Instrumentalists with prior experience playing in worship or ensemble settings \n* Those excited to serve consistently and grow in community through music \nIf you’re interested—or know someone who might be—I’d love to connect. Please email me at laura@napc.org to learn more.
URL:https://napc.org/event/join-the-music-ministry-at-napc/
LOCATION:North Avenue Presbyterian Church\, 607 Peachtree St\, Atlanta\, GA\, 30308\, United States
CATEGORIES:Chancel Choir,Volunteer
ATTACH;FMTTYPE=image/jpeg:https://napc.org/wp-content/uploads/2025/07/Music-Mininistry-scaled.jpg
END:VEVENT
BEGIN:VEVENT
DTSTART;TZID=America/New_York:20250809T080000
DTEND;TZID=America/New_York:20250816T170000
DTSTAMP:20260421T081155
CREATED:20250612T211245Z
LAST-MODIFIED:20250612T211245Z
UID:10011426-1754726400-1755363600@napc.org
SUMMARY:Hello Friend
DESCRIPTION:Again\, this year we have the opportunity to provide radical hospitality to the mainland Chinese students arriving at Georgia Tech who have come to us for 25 years for support and friendship. \nThis year as in the past\, we will offer airport pickup temporary housing and a big welcoming party at NAPC for the students. \nIf you would like to be a volunteer\, please consider how you might help! \n– Shadow Carol to learn logistics and preparations for the work \n– Provide bed and breakfast for 1-3 students in your home for 1-5 nights \n· Drive your vehicle to the airport to meet and transport one to three students. \n· Drive our new 15-passenger bus to pick up a small group of students. \n· Serve as a host/greeter for one of the buses. \n· Ride on the bus and be an airport greeter and luggage hauler. \n· Welcome them back to campus with ready snacks and helps. \n– Bring large pot soups or chili for serving students meals after they land. \n– Help with the Welcoming Party at North Avenue Church on August 16 \nGeorgia Tech plans to open as usual with classes beginning this year on August 18. That will mean that students will be arriving beginning the first week in August\, but most will arrive between the 9th and 16th of August. We will plan a big WELCOME PARTY for Saturday\, August 16\, at North Avenue Church gym and Broyles Center. \nSign up at our new website:  http://www.apath-atl.org/ or call /email Carol Hightower at carolh50@bellsouth.net   404-406-1946 \n  \nRegister To Help Here
URL:https://napc.org/event/hello-friend/
LOCATION:North Avenue Presbyterian Church\, 607 Peachtree St\, Atlanta\, GA\, 30308\, United States
CATEGORIES:Volunteer
ATTACH;FMTTYPE=image/jpeg:https://napc.org/wp-content/uploads/2025/06/Hello-Friend-2025-03-scaled.jpg
END:VEVENT
BEGIN:VEVENT
DTSTART;TZID=America/New_York:20250812T190000
DTEND;TZID=America/New_York:20250812T203000
DTSTAMP:20260421T081155
CREATED:20250114T025831Z
LAST-MODIFIED:20250423T165652Z
UID:10011147-1755025200-1755030600@napc.org
SUMMARY:Small Group for all Young Adults
DESCRIPTION:Small Group for all Young Adults – Tuesdays 7pm 3rd Floor Library
URL:https://napc.org/event/small-group-for-all-young-adults/2025-08-12/
LOCATION:GA
CATEGORIES:Young Adults
ATTACH;FMTTYPE=image/webp:https://napc.org/wp-content/uploads/2025/01/Young-Adult-Small-Group-event-scaled.webp
END:VEVENT
END:VCALENDAR