BEGIN:VCALENDAR
VERSION:2.0
PRODID:-//North Avenue Presbyterian Church - ECPv6.15.20//NONSGML v1.0//EN
CALSCALE:GREGORIAN
METHOD:PUBLISH
X-ORIGINAL-URL:https://napc.org
X-WR-CALDESC:Events for North Avenue Presbyterian Church
REFRESH-INTERVAL;VALUE=DURATION:PT1H
X-Robots-Tag:noindex
X-PUBLISHED-TTL:PT1H
BEGIN:VTIMEZONE
TZID:America/New_York
BEGIN:DAYLIGHT
TZOFFSETFROM:-0500
TZOFFSETTO:-0400
TZNAME:EDT
DTSTART:20240310T070000
END:DAYLIGHT
BEGIN:STANDARD
TZOFFSETFROM:-0400
TZOFFSETTO:-0500
TZNAME:EST
DTSTART:20241103T060000
END:STANDARD
BEGIN:DAYLIGHT
TZOFFSETFROM:-0500
TZOFFSETTO:-0400
TZNAME:EDT
DTSTART:20250309T070000
END:DAYLIGHT
BEGIN:STANDARD
TZOFFSETFROM:-0400
TZOFFSETTO:-0500
TZNAME:EST
DTSTART:20251102T060000
END:STANDARD
BEGIN:DAYLIGHT
TZOFFSETFROM:-0500
TZOFFSETTO:-0400
TZNAME:EDT
DTSTART:20260308T070000
END:DAYLIGHT
BEGIN:STANDARD
TZOFFSETFROM:-0400
TZOFFSETTO:-0500
TZNAME:EST
DTSTART:20261101T060000
END:STANDARD
END:VTIMEZONE
BEGIN:VEVENT
DTSTART;TZID=America/New_York:20250715T080000
DTEND;TZID=America/New_York:20250720T170000
DTSTAMP:20260421T093420
CREATED:20250103T114037Z
LAST-MODIFIED:20250423T155259Z
UID:10002562-1752566400-1753030800@napc.org
SUMMARY:The Great Escape
DESCRIPTION:The Great Escape (6th grade through 8th grade) ​ \nPacked full of recreation and activities as well as dynamic speakers\, musicians\, and other artists. The Great Escape is a tremendously fun and exciting atmosphere where students feel comfortable and loved\, and where they will have the best week of their lives experiencing the love of Jesus!
URL:https://napc.org/event/the-great-escape/
LOCATION:GA
CATEGORIES:Youth
ATTACH;FMTTYPE=image/webp:https://napc.org/wp-content/uploads/2025/01/The-Great-Escape-scaled.webp
END:VEVENT
BEGIN:VEVENT
DTSTART;TZID=America/New_York:20250715T190000
DTEND;TZID=America/New_York:20250715T203000
DTSTAMP:20260421T093420
CREATED:20250114T025831Z
LAST-MODIFIED:20250423T165652Z
UID:10011143-1752606000-1752611400@napc.org
SUMMARY:Small Group for all Young Adults
DESCRIPTION:Small Group for all Young Adults – Tuesdays 7pm 3rd Floor Library
URL:https://napc.org/event/small-group-for-all-young-adults/2025-07-15/
LOCATION:GA
CATEGORIES:Young Adults
ATTACH;FMTTYPE=image/webp:https://napc.org/wp-content/uploads/2025/01/Young-Adult-Small-Group-event-scaled.webp
END:VEVENT
END:VCALENDAR