BEGIN:VCALENDAR
VERSION:2.0
PRODID:-//North Avenue Presbyterian Church - ECPv6.15.20//NONSGML v1.0//EN
CALSCALE:GREGORIAN
METHOD:PUBLISH
X-WR-CALNAME:North Avenue Presbyterian Church
X-ORIGINAL-URL:https://napc.org
X-WR-CALDESC:Events for North Avenue Presbyterian Church
REFRESH-INTERVAL;VALUE=DURATION:PT1H
X-Robots-Tag:noindex
X-PUBLISHED-TTL:PT1H
BEGIN:VTIMEZONE
TZID:America/New_York
BEGIN:DAYLIGHT
TZOFFSETFROM:-0500
TZOFFSETTO:-0400
TZNAME:EDT
DTSTART:20240310T070000
END:DAYLIGHT
BEGIN:STANDARD
TZOFFSETFROM:-0400
TZOFFSETTO:-0500
TZNAME:EST
DTSTART:20241103T060000
END:STANDARD
BEGIN:DAYLIGHT
TZOFFSETFROM:-0500
TZOFFSETTO:-0400
TZNAME:EDT
DTSTART:20250309T070000
END:DAYLIGHT
BEGIN:STANDARD
TZOFFSETFROM:-0400
TZOFFSETTO:-0500
TZNAME:EST
DTSTART:20251102T060000
END:STANDARD
BEGIN:DAYLIGHT
TZOFFSETFROM:-0500
TZOFFSETTO:-0400
TZNAME:EDT
DTSTART:20260308T070000
END:DAYLIGHT
BEGIN:STANDARD
TZOFFSETFROM:-0400
TZOFFSETTO:-0500
TZNAME:EST
DTSTART:20261101T060000
END:STANDARD
END:VTIMEZONE
BEGIN:VEVENT
DTSTART;TZID=America/New_York:20250609T093000
DTEND;TZID=America/New_York:20250613T150000
DTSTAMP:20260421T155107
CREATED:20250226T203330Z
LAST-MODIFIED:20250423T155338Z
UID:10003998-1749461400-1749826800@napc.org
SUMMARY:Mission Plunge Camp
DESCRIPTION:Mission Plunge 2025\nJune 9th -June 12th \nRising k-5th graders are welcome to register for Mission Plunge. These four days will be full of missions that will enhance fellowship with peers and remind us of how serving others can bring joy. \nRegister Here
URL:https://napc.org/event/mission-plunge-camp/
LOCATION:North Avenue Presbyterian Church\, 607 Peachtree St\, Atlanta\, GA\, 30308\, United States
CATEGORIES:Children
ATTACH;FMTTYPE=image/jpeg:https://napc.org/wp-content/uploads/2025/02/Mission-Plunge-2025-scaled.jpg
END:VEVENT
BEGIN:VEVENT
DTSTART;TZID=America/New_York:20250610T190000
DTEND;TZID=America/New_York:20250610T203000
DTSTAMP:20260421T155107
CREATED:20250114T025831Z
LAST-MODIFIED:20250423T165652Z
UID:10011138-1749582000-1749587400@napc.org
SUMMARY:Small Group for all Young Adults
DESCRIPTION:Small Group for all Young Adults – Tuesdays 7pm 3rd Floor Library
URL:https://napc.org/event/small-group-for-all-young-adults/2025-06-10/
LOCATION:GA
CATEGORIES:Young Adults
ATTACH;FMTTYPE=image/webp:https://napc.org/wp-content/uploads/2025/01/Young-Adult-Small-Group-event-scaled.webp
END:VEVENT
END:VCALENDAR