BEGIN:VCALENDAR
VERSION:2.0
PRODID:-//North Avenue Presbyterian Church - ECPv6.15.20//NONSGML v1.0//EN
CALSCALE:GREGORIAN
METHOD:PUBLISH
X-ORIGINAL-URL:https://napc.org
X-WR-CALDESC:Events for North Avenue Presbyterian Church
REFRESH-INTERVAL;VALUE=DURATION:PT1H
X-Robots-Tag:noindex
X-PUBLISHED-TTL:PT1H
BEGIN:VTIMEZONE
TZID:America/New_York
BEGIN:DAYLIGHT
TZOFFSETFROM:-0500
TZOFFSETTO:-0400
TZNAME:EDT
DTSTART:20240310T070000
END:DAYLIGHT
BEGIN:STANDARD
TZOFFSETFROM:-0400
TZOFFSETTO:-0500
TZNAME:EST
DTSTART:20241103T060000
END:STANDARD
BEGIN:DAYLIGHT
TZOFFSETFROM:-0500
TZOFFSETTO:-0400
TZNAME:EDT
DTSTART:20250309T070000
END:DAYLIGHT
BEGIN:STANDARD
TZOFFSETFROM:-0400
TZOFFSETTO:-0500
TZNAME:EST
DTSTART:20251102T060000
END:STANDARD
BEGIN:DAYLIGHT
TZOFFSETFROM:-0500
TZOFFSETTO:-0400
TZNAME:EDT
DTSTART:20260308T070000
END:DAYLIGHT
BEGIN:STANDARD
TZOFFSETFROM:-0400
TZOFFSETTO:-0500
TZNAME:EST
DTSTART:20261101T060000
END:STANDARD
END:VTIMEZONE
BEGIN:VEVENT
DTSTART;TZID=America/New_York:20250603T110000
DTEND;TZID=America/New_York:20250603T130000
DTSTAMP:20260421T153512
CREATED:20250515T141724Z
LAST-MODIFIED:20250515T141724Z
UID:10011399-1748948400-1748955600@napc.org
SUMMARY:
DESCRIPTION:Do you ever wonder how to get the most from your cell phone\, which is not “just a phone” but a tiny computer with multiple “functions.” What does that even mean? Join The Avenue on Tuesday\, June 3\, when the NAPC youth will share their expertise on how cell phones work and explain the various functions\, including taking photos or videos\, storing photos\, keeping track of friends and family\, searching for information\, emailing\, texting – and more! Bring your fully charged cell phone and your questions. NAPC youth will provide an overview of key functions and individual coaching. \nIn honor and in appreciation of our young people\, we will be serving Chic-Fil-A and lemonade for lunch.  To defray the costs\, please consider contributing $5 or $10. \nRegister Here
URL:https://napc.org/event/4795/
LOCATION:North Avenue Presbyterian Church\, 607 Peachtree St\, Atlanta\, GA\, 30308\, United States
CATEGORIES:The Avenue
ATTACH;FMTTYPE=image/jpeg:https://napc.org/wp-content/uploads/2025/05/Cell-Phones-101-scaled.jpg
END:VEVENT
BEGIN:VEVENT
DTSTART;TZID=America/New_York:20250603T190000
DTEND;TZID=America/New_York:20250603T203000
DTSTAMP:20260421T153512
CREATED:20250114T025831Z
LAST-MODIFIED:20250423T165652Z
UID:10011137-1748977200-1748982600@napc.org
SUMMARY:Small Group for all Young Adults
DESCRIPTION:Small Group for all Young Adults – Tuesdays 7pm 3rd Floor Library
URL:https://napc.org/event/small-group-for-all-young-adults/2025-06-03/
LOCATION:GA
CATEGORIES:Young Adults
ATTACH;FMTTYPE=image/webp:https://napc.org/wp-content/uploads/2025/01/Young-Adult-Small-Group-event-scaled.webp
END:VEVENT
END:VCALENDAR