BEGIN:VCALENDAR
VERSION:2.0
PRODID:-//North Avenue Presbyterian Church - ECPv6.15.20//NONSGML v1.0//EN
CALSCALE:GREGORIAN
METHOD:PUBLISH
X-ORIGINAL-URL:https://napc.org
X-WR-CALDESC:Events for North Avenue Presbyterian Church
REFRESH-INTERVAL;VALUE=DURATION:PT1H
X-Robots-Tag:noindex
X-PUBLISHED-TTL:PT1H
BEGIN:VTIMEZONE
TZID:America/New_York
BEGIN:DAYLIGHT
TZOFFSETFROM:-0500
TZOFFSETTO:-0400
TZNAME:EDT
DTSTART:20240310T070000
END:DAYLIGHT
BEGIN:STANDARD
TZOFFSETFROM:-0400
TZOFFSETTO:-0500
TZNAME:EST
DTSTART:20241103T060000
END:STANDARD
BEGIN:DAYLIGHT
TZOFFSETFROM:-0500
TZOFFSETTO:-0400
TZNAME:EDT
DTSTART:20250309T070000
END:DAYLIGHT
BEGIN:STANDARD
TZOFFSETFROM:-0400
TZOFFSETTO:-0500
TZNAME:EST
DTSTART:20251102T060000
END:STANDARD
BEGIN:DAYLIGHT
TZOFFSETFROM:-0500
TZOFFSETTO:-0400
TZNAME:EDT
DTSTART:20260308T070000
END:DAYLIGHT
BEGIN:STANDARD
TZOFFSETFROM:-0400
TZOFFSETTO:-0500
TZNAME:EST
DTSTART:20261101T060000
END:STANDARD
END:VTIMEZONE
BEGIN:VEVENT
DTSTART;TZID=America/New_York:20250504T080000
DTEND;TZID=America/New_York:20250525T170000
DTSTAMP:20260421T170943
CREATED:20250424T150539Z
LAST-MODIFIED:20250424T150539Z
UID:10011395-1746345600-1748192400@napc.org
SUMMARY:Atlanta Children's Day Center Donation Drive
DESCRIPTION:Donation Drive for T-shirts\, Pants\, and Shorts for The Atlanta Children’s Day Shelter \nJoin us as we support the children and families of ACDS! Bring NEW T-shirts\, shorts\, and pants for boys’ and girls’ sizes 9 months to children’s 7/8 \nDonation Bins will be in the Hospitality Hall and Children’s Ministry Welcome Area starting May 4th through May 25th. Questions? Email Roxie Chess at roxie@napc.org
URL:https://napc.org/event/atlanta-childrens-day-center-donation-drive/
LOCATION:North Avenue Presbyterian Church\, 607 Peachtree St\, Atlanta\, GA\, 30308\, United States
CATEGORIES:Volunteer
ATTACH;FMTTYPE=image/jpeg:https://napc.org/wp-content/uploads/2025/04/ACS-Donation-Drive-2025-scaled.jpg
END:VEVENT
BEGIN:VEVENT
DTSTART;TZID=America/New_York:20250510T083000
DTEND;TZID=America/New_York:20250510T100000
DTSTAMP:20260421T170943
CREATED:20250326T183137Z
LAST-MODIFIED:20250423T155447Z
UID:10004277-1746865800-1746871200@napc.org
SUMMARY:Men's Ministry Team - Race for MAC!
DESCRIPTION:Join the Men’s Ministry Team as they Race for MAC! Come out for a morning of fun\, fellowship\, and exercise as we support North Avenue’s Mission Partner Midtown Assistance Center. All are welcome! \nSaturday\, May 10th \n8:30am to 10am \nPiedmont Park in Midtown \nAll runners’ fees will go directly towards MAC’s mission of emergency assistance to prevent homelessness and hunger during periods of crisis\, including through temporary rent or utility assistance to avoid eviction or disconnection\, transportation to keep a job\, or food on the table when times are lean. \nTo join the North Ave Team\, click on the link below: \nRegister Here \n 
URL:https://napc.org/event/mens-ministry-team-race-for-mac/
LOCATION:GA
CATEGORIES:Exercise,Volunteer
ATTACH;FMTTYPE=image/jpeg:https://napc.org/wp-content/uploads/2025/03/Mac-Race-scaled.jpg
END:VEVENT
END:VCALENDAR