BEGIN:VCALENDAR
VERSION:2.0
PRODID:-//North Avenue Presbyterian Church - ECPv6.15.20//NONSGML v1.0//EN
CALSCALE:GREGORIAN
METHOD:PUBLISH
X-ORIGINAL-URL:https://napc.org
X-WR-CALDESC:Events for North Avenue Presbyterian Church
REFRESH-INTERVAL;VALUE=DURATION:PT1H
X-Robots-Tag:noindex
X-PUBLISHED-TTL:PT1H
BEGIN:VTIMEZONE
TZID:America/New_York
BEGIN:DAYLIGHT
TZOFFSETFROM:-0500
TZOFFSETTO:-0400
TZNAME:EDT
DTSTART:20240310T070000
END:DAYLIGHT
BEGIN:STANDARD
TZOFFSETFROM:-0400
TZOFFSETTO:-0500
TZNAME:EST
DTSTART:20241103T060000
END:STANDARD
BEGIN:DAYLIGHT
TZOFFSETFROM:-0500
TZOFFSETTO:-0400
TZNAME:EDT
DTSTART:20250309T070000
END:DAYLIGHT
BEGIN:STANDARD
TZOFFSETFROM:-0400
TZOFFSETTO:-0500
TZNAME:EST
DTSTART:20251102T060000
END:STANDARD
BEGIN:DAYLIGHT
TZOFFSETFROM:-0500
TZOFFSETTO:-0400
TZNAME:EDT
DTSTART:20260308T070000
END:DAYLIGHT
BEGIN:STANDARD
TZOFFSETFROM:-0400
TZOFFSETTO:-0500
TZNAME:EST
DTSTART:20261101T060000
END:STANDARD
END:VTIMEZONE
BEGIN:VEVENT
DTSTART;TZID=America/New_York:20250302T030000
DTEND;TZID=America/New_York:20250330T130000
DTSTAMP:20260423T225702
CREATED:20250225T204048Z
LAST-MODIFIED:20250225T205914Z
UID:10003915-1740884400-1743339600@napc.org
SUMMARY:March Madness Donation Drive
DESCRIPTION:MAC March Madness Donation Drive: Toothbrush & Toothpaste. JOIN us as we collect all sizes of Toothbrushes and Toothpaste for our neighborhood ministry partner\, Midtown Assistance Center (MAC). We will collect them to help stock MAC’s food and sundries pantry\, March 2 through March 30. Midtown Assistance Center (MAC) is a non-profit whose mission is to provide emergency assistance to low-income working Atlantans to help prevent homelessness and hunger during periods of crisis. Donation bins are in The Hospitality Hall and in the Children’s Ministry Welcome Area.
URL:https://napc.org/event/narch-madness-donation-drive/
LOCATION:GA
CATEGORIES:Volunteer
ATTACH;FMTTYPE=image/jpeg:https://napc.org/wp-content/uploads/2025/02/March-Madness-scaled.jpg
END:VEVENT
BEGIN:VEVENT
DTSTART;TZID=America/New_York:20250322T044500
DTEND;TZID=America/New_York:20250322T073000
DTSTAMP:20260423T225702
CREATED:20250212T202644Z
LAST-MODIFIED:20250212T210448Z
UID:10003908-1742618700-1742628600@napc.org
SUMMARY:NAPC Bicycle Ride
DESCRIPTION:Bicycle Ride with NAPC Members \nPlease join us for a leisurely 10-12 mile bicycle ride around the city. We will ride together and leave no one behind. A little bit on the streets\, PATH and the beltline\, with a stop for coffee or refreshments. \nDate: March 22\, 2025 \nTime: 8:45 am\, Upper Deck of NAPC (back by about 11:30) \nEnter the upper deck\, we will provide parking vouchers for participants. \nFor more information contact Tom Morley calcprof@gmail.com 404-234-9746 or Jake Grant jake.t.grant63@gmail.com 708-870-9220
URL:https://napc.org/event/napc-bicycle-ride/
LOCATION:North Avenue Presbyterian Church\, 607 Peachtree St\, Atlanta\, GA\, 30308\, United States
CATEGORIES:Exercise
ATTACH;FMTTYPE=image/jpeg:https://napc.org/wp-content/uploads/2025/02/north-avenue-bicycle-ride-wip-Recovered-scaled.jpg
END:VEVENT
END:VCALENDAR