BEGIN:VCALENDAR
VERSION:2.0
PRODID:-//North Avenue Presbyterian Church - ECPv6.15.20//NONSGML v1.0//EN
CALSCALE:GREGORIAN
METHOD:PUBLISH
X-ORIGINAL-URL:https://napc.org
X-WR-CALDESC:Events for North Avenue Presbyterian Church
REFRESH-INTERVAL;VALUE=DURATION:PT1H
X-Robots-Tag:noindex
X-PUBLISHED-TTL:PT1H
BEGIN:VTIMEZONE
TZID:America/New_York
BEGIN:DAYLIGHT
TZOFFSETFROM:-0500
TZOFFSETTO:-0400
TZNAME:EDT
DTSTART:20240310T070000
END:DAYLIGHT
BEGIN:STANDARD
TZOFFSETFROM:-0400
TZOFFSETTO:-0500
TZNAME:EST
DTSTART:20241103T060000
END:STANDARD
BEGIN:DAYLIGHT
TZOFFSETFROM:-0500
TZOFFSETTO:-0400
TZNAME:EDT
DTSTART:20250309T070000
END:DAYLIGHT
BEGIN:STANDARD
TZOFFSETFROM:-0400
TZOFFSETTO:-0500
TZNAME:EST
DTSTART:20251102T060000
END:STANDARD
BEGIN:DAYLIGHT
TZOFFSETFROM:-0500
TZOFFSETTO:-0400
TZNAME:EDT
DTSTART:20260308T070000
END:DAYLIGHT
BEGIN:STANDARD
TZOFFSETFROM:-0400
TZOFFSETTO:-0500
TZNAME:EST
DTSTART:20261101T060000
END:STANDARD
END:VTIMEZONE
BEGIN:VEVENT
DTSTART;VALUE=DATE:20250101
DTEND;VALUE=DATE:20250106
DTSTAMP:20260424T085754
CREATED:20240904T235843Z
LAST-MODIFIED:20240905T004559Z
UID:10001399-1735758000-1736103599@napc.org
SUMMARY:College Conference
DESCRIPTION:2025 College Conference January 2–5\, 2025 \nUnimaginable Possibilities: God’s Hope for a Weary World \nfor College Students or ages 18-24 \nAn opportunity for college-aged young adults to spend three days in the mountains of Western North Carolina nurturing their faith and connecting with others as they engage in worship\, recreation\, and critical conversations. This conference welcomes all to know and experience God’s word more fully\, regardless of each person’s religious affiliation\, area of study\, or where they might be on their spiritual journey. \nThrough the theme “Unimaginable Possibilities: God’s Hope in a Weary World\,” conference participants will explore the ways in which God sees us\, has a plan for us\, and offers healing\, even when we least expect it. \n$50 registration – due by 11/1/24 \n$300 total – due by 12/15/24 \nScholarships available \nRegister Here
URL:https://napc.org/event/college-conference/
LOCATION:GA
ATTACH;FMTTYPE=image/webp:https://napc.org/wp-content/uploads/2024/09/COLLEGE-CONFRENCE-03-scaled.webp
END:VEVENT
END:VCALENDAR