BEGIN:VCALENDAR
VERSION:2.0
PRODID:-//North Avenue Presbyterian Church - ECPv6.15.20//NONSGML v1.0//EN
CALSCALE:GREGORIAN
METHOD:PUBLISH
X-ORIGINAL-URL:https://napc.org
X-WR-CALDESC:Events for North Avenue Presbyterian Church
REFRESH-INTERVAL;VALUE=DURATION:PT1H
X-Robots-Tag:noindex
X-PUBLISHED-TTL:PT1H
BEGIN:VTIMEZONE
TZID:America/New_York
BEGIN:DAYLIGHT
TZOFFSETFROM:-0500
TZOFFSETTO:-0400
TZNAME:EDT
DTSTART:20230312T070000
END:DAYLIGHT
BEGIN:STANDARD
TZOFFSETFROM:-0400
TZOFFSETTO:-0500
TZNAME:EST
DTSTART:20231105T060000
END:STANDARD
BEGIN:DAYLIGHT
TZOFFSETFROM:-0500
TZOFFSETTO:-0400
TZNAME:EDT
DTSTART:20240310T070000
END:DAYLIGHT
BEGIN:STANDARD
TZOFFSETFROM:-0400
TZOFFSETTO:-0500
TZNAME:EST
DTSTART:20241103T060000
END:STANDARD
BEGIN:DAYLIGHT
TZOFFSETFROM:-0500
TZOFFSETTO:-0400
TZNAME:EDT
DTSTART:20250309T070000
END:DAYLIGHT
BEGIN:STANDARD
TZOFFSETFROM:-0400
TZOFFSETTO:-0500
TZNAME:EST
DTSTART:20251102T060000
END:STANDARD
END:VTIMEZONE
BEGIN:VEVENT
DTSTART;TZID=America/New_York:20241217T131500
DTEND;TZID=America/New_York:20241217T163000
DTSTAMP:20260424T085754
CREATED:20241122T220213Z
LAST-MODIFIED:20241122T221319Z
UID:10002264-1734441300-1734453000@napc.org
SUMMARY:ASO VOLUNTEERS
DESCRIPTION:Help make the Atlanta Symphony Orchestra Classical Christmas Concert a roaring success!  Sign up to volunteer in various roles.  For more information and to volunteer\, please email Don Handell at dhandell@bellsouth.net
URL:https://napc.org/event/aso-volunteers/
LOCATION:North Avenue Presbyterian Church\, 607 Peachtree St\, Atlanta\, GA\, 30308\, United States
CATEGORIES:Volunteer
ATTACH;FMTTYPE=image/webp:https://napc.org/wp-content/uploads/2024/11/ASO-Volunteers-scaled.webp
ORGANIZER;CN="Don Handell":MAILTO:dhandell@bellsouth.net
END:VEVENT
BEGIN:VEVENT
DTSTART;TZID=America/New_York:20241217T140000
DTEND;TZID=America/New_York:20241217T160000
DTSTAMP:20260424T085754
CREATED:20241122T190006Z
LAST-MODIFIED:20241122T193124Z
UID:10002263-1734444000-1734451200@napc.org
SUMMARY:The Atlanta Symphony Orchestra - Classical Christmas Concert
DESCRIPTION:Step into a world of holiday cheer as we present the Classical Christmas Symphony Concert featuring the illustrious Atlanta Symphony Orchestra. This unforgettable evening promises to fill your heart with the joyous sounds of the season and the timeless beauty of classical music. Be mesmerized by the impeccable artistry of one of the nation’s premier orchestras as harmonious melodies and grand symphonic pieces transport you into the very essence of Christmas magic. \nThis concert is more than just a performance; it’s a celebration of our church community and the spirit of giving. Join us in the warm and inviting ambiance of North Avenue Presbyterian Church\, where you can share the season’s spirit with friends\, family\, and neighbors. This special event is our gift to the community\, a way to spread joy and bring everyone together during this festive season. \nMark your calendar for this remarkable night and be part of a cherished tradition that brings joy and beauty. Let’s celebrate the season with music\, fellowship\, and a shared commitment to the joy and generosity that defines this wonderful time of year. We look forward to celebrating with you! \nDate: December 17\, 2024 Time: 7:00 PM \nLocation: North Avenue Presbyterian Church\, 607 Peachtree Street NE\, Atlanta\, GA \nFree parking is available for up to 150 cars. \nBook Your Tickets Here
URL:https://napc.org/event/the-atlanta-symphony-orchestra-classical-christmas-concert/
LOCATION:North Avenue Presbyterian Church\, 607 Peachtree St\, Atlanta\, GA\, 30308\, United States
ATTACH;FMTTYPE=image/webp:https://napc.org/wp-content/uploads/2024/11/ASO-2024-CS-final-scaled.webp
END:VEVENT
END:VCALENDAR