BEGIN:VCALENDAR
VERSION:2.0
PRODID:-//North Avenue Presbyterian Church - ECPv6.15.20//NONSGML v1.0//EN
CALSCALE:GREGORIAN
METHOD:PUBLISH
X-ORIGINAL-URL:https://napc.org
X-WR-CALDESC:Events for North Avenue Presbyterian Church
REFRESH-INTERVAL;VALUE=DURATION:PT1H
X-Robots-Tag:noindex
X-PUBLISHED-TTL:PT1H
BEGIN:VTIMEZONE
TZID:America/New_York
BEGIN:DAYLIGHT
TZOFFSETFROM:-0500
TZOFFSETTO:-0400
TZNAME:EDT
DTSTART:20230312T070000
END:DAYLIGHT
BEGIN:STANDARD
TZOFFSETFROM:-0400
TZOFFSETTO:-0500
TZNAME:EST
DTSTART:20231105T060000
END:STANDARD
BEGIN:DAYLIGHT
TZOFFSETFROM:-0500
TZOFFSETTO:-0400
TZNAME:EDT
DTSTART:20240310T070000
END:DAYLIGHT
BEGIN:STANDARD
TZOFFSETFROM:-0400
TZOFFSETTO:-0500
TZNAME:EST
DTSTART:20241103T060000
END:STANDARD
BEGIN:DAYLIGHT
TZOFFSETFROM:-0500
TZOFFSETTO:-0400
TZNAME:EDT
DTSTART:20250309T070000
END:DAYLIGHT
BEGIN:STANDARD
TZOFFSETFROM:-0400
TZOFFSETTO:-0500
TZNAME:EST
DTSTART:20251102T060000
END:STANDARD
END:VTIMEZONE
BEGIN:VEVENT
DTSTART;TZID=America/New_York:20241201T040000
DTEND;TZID=America/New_York:20241201T060000
DTSTAMP:20260425T203548
CREATED:20241110T023236Z
LAST-MODIFIED:20241110T024127Z
UID:10002203-1733025600-1733032800@napc.org
SUMMARY:The Great Advent Bake Off!
DESCRIPTION:Join our 1st ever Great Advent Bake Off! Register to bring 4 dozen Homemade Christmas Cookies on December 1st\, 8th\, 15th and 22nd for our fellowship gathering after worship. Pastors Fred Foy and Jasmine will be our judges! Cookies will be judged on presentation and taste. The winner will be awarded a special surprise!! Space is limited so register today!! \nQuestions? contact Roxie at roxie@napc.org. \nRegister Here \n 
URL:https://napc.org/event/the-great-advent-bake-off/2024-12-01/
LOCATION:GA
CATEGORIES:Volunteer
ATTACH;FMTTYPE=image/webp:https://napc.org/wp-content/uploads/2024/11/Advent-Bake-Off-scaled.webp
END:VEVENT
BEGIN:VEVENT
DTSTART;TZID=America/New_York:20241201T043000
DTEND;TZID=America/New_York:20241201T070000
DTSTAMP:20260425T203548
CREATED:20241122T184626Z
LAST-MODIFIED:20241122T184626Z
UID:10002260-1733027400-1733036400@napc.org
SUMMARY:Toy Drive
DESCRIPTION:South Atlanta Christmas Store (formally Pride for Parents) Toy Drive Online and In Person! December 1st\, December 8th\, and December 15th Please bring newly purchased toys to the Hospitality Hall or Children’s Welcome area donation bins on these three Sundays OR order toys to be shipped to FCS using this link: www.fcsministries.org/SA-Christmas-Store \nOur goal is to donate over 100 toys to “Pride for Parents\,” a program of our Mission Partner Focused Community Strategies. FCS is a North Avenue Mission partner that supports families in South Atlanta. Parents will be able to come to their location and purchase a toy at an affordable cost\, creating a special memory for their children. FCS is planning to serve over 1000 families this year. We will be helping wrap and organize the toys during our Service opportunity on December 14th.
URL:https://napc.org/event/toy-drive/2024-12-01/
LOCATION:GA
CATEGORIES:Volunteer
ATTACH;FMTTYPE=image/webp:https://napc.org/wp-content/uploads/2024/11/FCS-Toy-Drive-scaled.webp
END:VEVENT
BEGIN:VEVENT
DTSTART;TZID=America/New_York:20241201T094500
DTEND;TZID=America/New_York:20241201T110000
DTSTAMP:20260425T203548
CREATED:20240509T003518Z
LAST-MODIFIED:20250423T161931Z
UID:10006757-1733046300-1733050800@napc.org
SUMMARY:Sunday Worship
DESCRIPTION:Each week at 9:45 a.m. we worship through a variety of contemporary and traditional music\, pray together\, and hear a message from the scriptures. Our weekly times of worship are a high priority for the community at NAPC and you can join us in-person or online. www.napc.org/live \nRegister here
URL:https://napc.org/event/sunday-worship/2024-12-01/
LOCATION:North Avenue Presbyterian Church\, 607 Peachtree St\, Atlanta\, GA\, 30308\, United States
ATTACH;FMTTYPE=image/webp:https://napc.org/wp-content/uploads/2024/05/Worship-scaled.webp
END:VEVENT
BEGIN:VEVENT
DTSTART;TZID=America/New_York:20241201T124500
DTEND;TZID=America/New_York:20241201T134500
DTSTAMP:20260425T203548
CREATED:20240815T190122Z
LAST-MODIFIED:20250205T083748Z
UID:10001150-1733057100-1733060700@napc.org
SUMMARY:Connections 5:45 Worship Experience
DESCRIPTION:Join us on Sunday evenings at 5:45pm for a fresh and vibrant worship experience called Connections at North Avenue. Connections is designed to foster community and spiritual growth in an engaging and contemporary atmosphere. Come as you are\, bring your friends\, and discover a welcoming space where you can connect\, worship\, and be inspired. We look forward to seeing you there!
URL:https://napc.org/event/connections-545-worship-experience/2024-12-01/
LOCATION:North Avenue Presbyterian Church\, 607 Peachtree St\, Atlanta\, GA\, 30308\, United States
CATEGORIES:Worship
ATTACH;FMTTYPE=image/webp:https://napc.org/wp-content/uploads/2024/08/Connections-5-45-worship-Service-cont-03-scaled.webp
END:VEVENT
BEGIN:VEVENT
DTSTART;TZID=America/New_York:20241201T144500
DTEND;TZID=America/New_York:20241201T153000
DTSTAMP:20260425T203548
CREATED:20240809T231315Z
LAST-MODIFIED:20250423T160556Z
UID:10005685-1733064300-1733067000@napc.org
SUMMARY:First Sunday Healing Prayer Service
DESCRIPTION:If you would like the church to pray for healing for you or for someone you love\, please join us in the prayer room behind the sanctuary immediately after worship on the first Sunday of the month.
URL:https://napc.org/event/first-sunday-healing-prayer-service/2024-12-01/
LOCATION:GA
ATTACH;FMTTYPE=image/webp:https://napc.org/wp-content/uploads/2024/08/PRAYER-SERVICES-2024-03-scaled.webp
END:VEVENT
END:VCALENDAR