BEGIN:VCALENDAR
VERSION:2.0
PRODID:-//North Avenue Presbyterian Church - ECPv6.15.20//NONSGML v1.0//EN
CALSCALE:GREGORIAN
METHOD:PUBLISH
X-ORIGINAL-URL:https://napc.org
X-WR-CALDESC:Events for North Avenue Presbyterian Church
REFRESH-INTERVAL;VALUE=DURATION:PT1H
X-Robots-Tag:noindex
X-PUBLISHED-TTL:PT1H
BEGIN:VTIMEZONE
TZID:America/New_York
BEGIN:DAYLIGHT
TZOFFSETFROM:-0500
TZOFFSETTO:-0400
TZNAME:EDT
DTSTART:20230312T070000
END:DAYLIGHT
BEGIN:STANDARD
TZOFFSETFROM:-0400
TZOFFSETTO:-0500
TZNAME:EST
DTSTART:20231105T060000
END:STANDARD
BEGIN:DAYLIGHT
TZOFFSETFROM:-0500
TZOFFSETTO:-0400
TZNAME:EDT
DTSTART:20240310T070000
END:DAYLIGHT
BEGIN:STANDARD
TZOFFSETFROM:-0400
TZOFFSETTO:-0500
TZNAME:EST
DTSTART:20241103T060000
END:STANDARD
BEGIN:DAYLIGHT
TZOFFSETFROM:-0500
TZOFFSETTO:-0400
TZNAME:EDT
DTSTART:20250309T070000
END:DAYLIGHT
BEGIN:STANDARD
TZOFFSETFROM:-0400
TZOFFSETTO:-0500
TZNAME:EST
DTSTART:20251102T060000
END:STANDARD
END:VTIMEZONE
BEGIN:VEVENT
DTSTART;TZID=America/New_York:20241119T080000
DTEND;TZID=America/New_York:20241119T120000
DTSTAMP:20260424T103818
CREATED:20241024T203931Z
LAST-MODIFIED:20241024T204112Z
UID:10002200-1732003200-1732017600@napc.org
SUMMARY:Thanksgiving Potluck & Service Project
DESCRIPTION:Celebrate the holiday season by joining The Avenue for our traditional Thanksgiving Potluck dinner. Bring a dish to share with Avenue friends. If your last name starts with A-M\, bring a side dish or salad; bring a dessert if your last name falls between M-Z. In addition\, we hope you will consider joining us in supporting Feet on the Street. With your contribution of $5\, $10 or $15\, the Avenue will purchase hygiene essentials for the community of women who are served by the Feet on the Street ministry. After dinner\, Maurice Lattimore\, Feet on the Street Director\, will provide a short tour of the facilities and share how our contributions will support the health and wellness of women during the winter months. We look forward to seeing you for a time of fellowship and service to others. \nRegister Here
URL:https://napc.org/event/thanksgiving-potluck-service-project/
LOCATION:North Avenue Presbyterian Church\, 607 Peachtree St\, Atlanta\, GA\, 30308\, United States
ATTACH;FMTTYPE=image/webp:https://napc.org/wp-content/uploads/2024/10/the-Avenue-thanksgiving-2024-scaled.webp
END:VEVENT
END:VCALENDAR