BEGIN:VCALENDAR
VERSION:2.0
PRODID:-//North Avenue Presbyterian Church - ECPv6.15.20//NONSGML v1.0//EN
CALSCALE:GREGORIAN
METHOD:PUBLISH
X-ORIGINAL-URL:https://napc.org
X-WR-CALDESC:Events for North Avenue Presbyterian Church
REFRESH-INTERVAL;VALUE=DURATION:PT1H
X-Robots-Tag:noindex
X-PUBLISHED-TTL:PT1H
BEGIN:VTIMEZONE
TZID:America/New_York
BEGIN:DAYLIGHT
TZOFFSETFROM:-0500
TZOFFSETTO:-0400
TZNAME:EDT
DTSTART:20230312T070000
END:DAYLIGHT
BEGIN:STANDARD
TZOFFSETFROM:-0400
TZOFFSETTO:-0500
TZNAME:EST
DTSTART:20231105T060000
END:STANDARD
BEGIN:DAYLIGHT
TZOFFSETFROM:-0500
TZOFFSETTO:-0400
TZNAME:EDT
DTSTART:20240310T070000
END:DAYLIGHT
BEGIN:STANDARD
TZOFFSETFROM:-0400
TZOFFSETTO:-0500
TZNAME:EST
DTSTART:20241103T060000
END:STANDARD
BEGIN:DAYLIGHT
TZOFFSETFROM:-0500
TZOFFSETTO:-0400
TZNAME:EDT
DTSTART:20250309T070000
END:DAYLIGHT
BEGIN:STANDARD
TZOFFSETFROM:-0400
TZOFFSETTO:-0500
TZNAME:EST
DTSTART:20251102T060000
END:STANDARD
END:VTIMEZONE
BEGIN:VEVENT
DTSTART;TZID=America/New_York:20240818T040000
DTEND;TZID=America/New_York:20240915T130000
DTSTAMP:20260424T135424
CREATED:20240814T224236Z
LAST-MODIFIED:20240814T230620Z
UID:10001136-1723953600-1726405200@napc.org
SUMMARY:Lazarus Sock Drive
DESCRIPTION:Sock Donation Drive for Lazarus Health Day August 18th through September 15th: Please Donate DARK COLORED socks for men\, women\, and children that we will share with our friends and neighbors at the Lazarus Health Day event on September 15th. You can bring them to the donation bins in the Hospitality Hall or The Children’s Welcome Area
URL:https://napc.org/event/lazarus-sock-drive/
LOCATION:North Avenue Presbyterian Church\, 607 Peachtree St\, Atlanta\, GA\, 30308\, United States
CATEGORIES:Volunteer
ATTACH;FMTTYPE=image/webp:https://napc.org/wp-content/uploads/2024/08/Lazarus-Health-Day-Sock-Drive-2024-03-scaled.webp
END:VEVENT
BEGIN:VEVENT
DTSTART;TZID=America/New_York:20240910T073000
DTEND;TZID=America/New_York:20240910T093000
DTSTAMP:20260424T135424
CREATED:20240809T225700Z
LAST-MODIFIED:20240809T232645Z
UID:10000346-1725953400-1725960600@napc.org
SUMMARY:The Avenue - An Interview with Dr. Wayne Clough
DESCRIPTION:On September 10\, from 11:30-1:30\, Dr. Wayne Clough\, scholar\, educator and visionary leader\, will share highlights of his diverse and long career in an interview: “My Journey to the Writing Life\, after Teaching\, Being a University President and Serving as Secretary of the Smithsonian – Why It All Led to the Georgia Coast.” Following the interview\, a light lunch will be served. Tickets for the event\, including lunch\, are $10.00. Please join us! \nWayne Clough\, a native of Douglas\, GA\, received his BS degree in civil engineering from the Georgia Institute of Technology in 1964 and his master’s degree in 1965. He went on to receive a PhD in civil engineering from the University of California\, Berkley. Dr. Clough returned to Georgia Tech as President in 1994\, the first alumnus to do so. \nDuring his fourteen-year tenure as President of Georgia Tech\, Dr. Clough helped transform the Institute into one of the leading research universities in the world. His tenure was marked by increases in enrollment as well as significant advancements in research\, innovation and campus development\, including the building of Technology Square and expanding in Midtown. Having held academic and administrative posts at Duke\, Stanford\, Virginia Tech and the University of Washington\, Dr. Clough is widely recognized as a leader in the field of civil engineering. He was elected to the prestigious National Academy of Engineering in 2008. \nUpon leaving Georgia Tech\, Dr. Clough became Secretary of the Smithsonian Institution\, bringing visionary leadership and serving the Smithsonian for six years. In recent years\, he has embarked on a new venture as a writer. He currently divides his time between the mountains and the coast of Georgia\, which is the subject of his next book. \nRegister here \n 
URL:https://napc.org/event/the-avenue-an-interview-with-dr-wayne-clough/
LOCATION:North Avenue Presbyterian Church\, 607 Peachtree St\, Atlanta\, GA\, 30308\, United States
ATTACH;FMTTYPE=image/webp:https://napc.org/wp-content/uploads/2024/08/the-avenue-wayne-clough-2024-03-scaled.webp
END:VEVENT
END:VCALENDAR