BEGIN:VCALENDAR
VERSION:2.0
PRODID:-//North Avenue Presbyterian Church - ECPv6.15.20//NONSGML v1.0//EN
CALSCALE:GREGORIAN
METHOD:PUBLISH
X-ORIGINAL-URL:https://napc.org
X-WR-CALDESC:Events for North Avenue Presbyterian Church
REFRESH-INTERVAL;VALUE=DURATION:PT1H
X-Robots-Tag:noindex
X-PUBLISHED-TTL:PT1H
BEGIN:VTIMEZONE
TZID:America/New_York
BEGIN:DAYLIGHT
TZOFFSETFROM:-0500
TZOFFSETTO:-0400
TZNAME:EDT
DTSTART:20230312T070000
END:DAYLIGHT
BEGIN:STANDARD
TZOFFSETFROM:-0400
TZOFFSETTO:-0500
TZNAME:EST
DTSTART:20231105T060000
END:STANDARD
BEGIN:DAYLIGHT
TZOFFSETFROM:-0500
TZOFFSETTO:-0400
TZNAME:EDT
DTSTART:20240310T070000
END:DAYLIGHT
BEGIN:STANDARD
TZOFFSETFROM:-0400
TZOFFSETTO:-0500
TZNAME:EST
DTSTART:20241103T060000
END:STANDARD
BEGIN:DAYLIGHT
TZOFFSETFROM:-0500
TZOFFSETTO:-0400
TZNAME:EDT
DTSTART:20250309T070000
END:DAYLIGHT
BEGIN:STANDARD
TZOFFSETFROM:-0400
TZOFFSETTO:-0500
TZNAME:EST
DTSTART:20251102T060000
END:STANDARD
END:VTIMEZONE
BEGIN:VEVENT
DTSTART;TZID=America/New_York:20240818T040000
DTEND;TZID=America/New_York:20240915T130000
DTSTAMP:20260424T135425
CREATED:20240814T224236Z
LAST-MODIFIED:20240814T230620Z
UID:10001136-1723953600-1726405200@napc.org
SUMMARY:Lazarus Sock Drive
DESCRIPTION:Sock Donation Drive for Lazarus Health Day August 18th through September 15th: Please Donate DARK COLORED socks for men\, women\, and children that we will share with our friends and neighbors at the Lazarus Health Day event on September 15th. You can bring them to the donation bins in the Hospitality Hall or The Children’s Welcome Area
URL:https://napc.org/event/lazarus-sock-drive/
LOCATION:North Avenue Presbyterian Church\, 607 Peachtree St\, Atlanta\, GA\, 30308\, United States
CATEGORIES:Volunteer
ATTACH;FMTTYPE=image/webp:https://napc.org/wp-content/uploads/2024/08/Lazarus-Health-Day-Sock-Drive-2024-03-scaled.webp
END:VEVENT
BEGIN:VEVENT
DTSTART;TZID=America/New_York:20240908T070000
DTEND;TZID=America/New_York:20240908T080000
DTSTAMP:20260424T135425
CREATED:20240809T225321Z
LAST-MODIFIED:20240809T232800Z
UID:10000342-1725778800-1725782400@napc.org
SUMMARY:Moments That Matter
DESCRIPTION:We hope that you will join us for three weeks beginning Sunday\, September 8 for the next installment of Moments That Matter\, entitled “I Believe…Help My Unbelief–Walking Through Doubt Towards Trust.” Director of Congregational Care Kim Goldsmith and Bill Dixon hope to facilitate honest\, meaningful conversations that are rooted in Scripture\, our personal experiences\, and the experiences of others that help us to engage honestly with doubts and difficulties. We will gather in BMC A at 11:00.
URL:https://napc.org/event/moments-that-matter/2024-09-08/
LOCATION:North Avenue Presbyterian Church\, 607 Peachtree St\, Atlanta\, GA\, 30308\, United States
ATTACH;FMTTYPE=image/webp:https://napc.org/wp-content/uploads/2024/08/moments-that-matter-wip-series-4-06-scaled.webp
END:VEVENT
BEGIN:VEVENT
DTSTART;TZID=America/New_York:20240908T083000
DTEND;TZID=America/New_York:20240908T123000
DTSTAMP:20260424T135425
CREATED:20240509T001233Z
LAST-MODIFIED:20250423T164015Z
UID:10008496-1725784200-1725798600@napc.org
SUMMARY:Prayer Labyrinth
DESCRIPTION:8:30 A.M. – 12:30 P.M.\, 4th Floor\, Gym \nThe labyrinth offers an opportunity to pray meditatively while walking the labyrinth. A host will be there to answer any questions and printed information is available. \nGroups or classes may sign up to come together and have a discussion afterward. \nClick Here to register. \nRegister here
URL:https://napc.org/event/prayer-labyrinth/2024-09-08/
LOCATION:North Avenue Presbyterian Church\, 607 Peachtree St\, Atlanta\, GA\, 30308\, United States
CATEGORIES:Prayer
ATTACH;FMTTYPE=image/webp:https://napc.org/wp-content/uploads/2024/05/LABYRINTH-2nd-sunday_Labyrinth-w.webp
ORGANIZER;CN="Clair Hertzler":MAILTO:clairehertzler@gmail.com.
END:VEVENT
BEGIN:VEVENT
DTSTART;TZID=America/New_York:20240908T094500
DTEND;TZID=America/New_York:20240908T110000
DTSTAMP:20260424T135425
CREATED:20240509T003518Z
LAST-MODIFIED:20250423T161931Z
UID:10006745-1725788700-1725793200@napc.org
SUMMARY:Sunday Worship
DESCRIPTION:Each week at 9:45 a.m. we worship through a variety of contemporary and traditional music\, pray together\, and hear a message from the scriptures. Our weekly times of worship are a high priority for the community at NAPC and you can join us in-person or online. www.napc.org/live \nRegister here
URL:https://napc.org/event/sunday-worship/2024-09-08/
LOCATION:North Avenue Presbyterian Church\, 607 Peachtree St\, Atlanta\, GA\, 30308\, United States
ATTACH;FMTTYPE=image/webp:https://napc.org/wp-content/uploads/2024/05/Worship-scaled.webp
END:VEVENT
BEGIN:VEVENT
DTSTART;TZID=America/New_York:20240908T134500
DTEND;TZID=America/New_York:20240908T144500
DTSTAMP:20260424T135425
CREATED:20240815T190122Z
LAST-MODIFIED:20250205T083748Z
UID:10001138-1725803100-1725806700@napc.org
SUMMARY:Connections 5:45 Worship Experience
DESCRIPTION:Join us on Sunday evenings at 5:45pm for a fresh and vibrant worship experience called Connections at North Avenue. Connections is designed to foster community and spiritual growth in an engaging and contemporary atmosphere. Come as you are\, bring your friends\, and discover a welcoming space where you can connect\, worship\, and be inspired. We look forward to seeing you there!
URL:https://napc.org/event/connections-545-worship-experience/2024-09-08/
LOCATION:North Avenue Presbyterian Church\, 607 Peachtree St\, Atlanta\, GA\, 30308\, United States
CATEGORIES:Worship
ATTACH;FMTTYPE=image/webp:https://napc.org/wp-content/uploads/2024/08/Connections-5-45-worship-Service-cont-03-scaled.webp
END:VEVENT
END:VCALENDAR